BEGIN:VCALENDAR
VERSION:2.0
PRODID:-//Three Principles Psychology - ECPv6.15.20//NONSGML v1.0//EN
CALSCALE:GREGORIAN
METHOD:PUBLISH
X-ORIGINAL-URL:https://threeprinciplespsychology.com
X-WR-CALDESC:Events for Three Principles Psychology
REFRESH-INTERVAL;VALUE=DURATION:PT1H
X-Robots-Tag:noindex
X-PUBLISHED-TTL:PT1H
BEGIN:VTIMEZONE
TZID:America/Los_Angeles
BEGIN:DAYLIGHT
TZOFFSETFROM:-0800
TZOFFSETTO:-0700
TZNAME:PDT
DTSTART:20230312T100000
END:DAYLIGHT
BEGIN:STANDARD
TZOFFSETFROM:-0700
TZOFFSETTO:-0800
TZNAME:PST
DTSTART:20231105T090000
END:STANDARD
BEGIN:DAYLIGHT
TZOFFSETFROM:-0800
TZOFFSETTO:-0700
TZNAME:PDT
DTSTART:20240310T100000
END:DAYLIGHT
BEGIN:STANDARD
TZOFFSETFROM:-0700
TZOFFSETTO:-0800
TZNAME:PST
DTSTART:20241103T090000
END:STANDARD
BEGIN:DAYLIGHT
TZOFFSETFROM:-0800
TZOFFSETTO:-0700
TZNAME:PDT
DTSTART:20250309T100000
END:DAYLIGHT
BEGIN:STANDARD
TZOFFSETFROM:-0700
TZOFFSETTO:-0800
TZNAME:PST
DTSTART:20251102T090000
END:STANDARD
BEGIN:DAYLIGHT
TZOFFSETFROM:-0800
TZOFFSETTO:-0700
TZNAME:PDT
DTSTART:20260308T100000
END:DAYLIGHT
BEGIN:STANDARD
TZOFFSETFROM:-0700
TZOFFSETTO:-0800
TZNAME:PST
DTSTART:20261101T090000
END:STANDARD
END:VTIMEZONE
BEGIN:VEVENT
DTSTART;TZID=America/Los_Angeles:20251016T100000
DTEND;TZID=America/Los_Angeles:20251016T110000
DTSTAMP:20260422T044558
CREATED:20241121T154539Z
LAST-MODIFIED:20250723T171536Z
UID:10000509-1760608800-1760612400@threeprinciplespsychology.com
SUMMARY:Uncovering the Hidden Dimension
DESCRIPTION:There is a hidden dimension within you that has the answers you seek. The Three Principles of Mind\, Thought\, and Consciousness are a definite direction toward this dimension. \nLearn more and enroll here.
URL:https://threeprinciplespsychology.com/event/uncovering-the-hidden-dimension-2/2025-10-16/
CATEGORIES:Uncovering the Hidden Dimension
ATTACH;FMTTYPE=image/jpeg:https://threeprinciplespsychology.com/wp-content/uploads/2024/09/3PP-UTHD-Banner-Background-01.jpg
END:VEVENT
BEGIN:VEVENT
DTSTART;TZID=America/Los_Angeles:20251002T100000
DTEND;TZID=America/Los_Angeles:20251002T110000
DTSTAMP:20260422T044558
CREATED:20241121T154444Z
LAST-MODIFIED:20250723T171611Z
UID:10000448-1759399200-1759402800@threeprinciplespsychology.com
SUMMARY:Uncovering the Hidden Dimension
DESCRIPTION:The Three Principles reveal a dimension of life we didn’t know existed. It’s where genuine mental health lives\, and techniques and willpower become completely redundant. \nLearn more and Enroll here.
URL:https://threeprinciplespsychology.com/event/uncovering-the-hidden-dimension/2025-10-02/
CATEGORIES:Uncovering the Hidden Dimension
ATTACH;FMTTYPE=image/jpeg:https://threeprinciplespsychology.com/wp-content/uploads/2024/09/3PP-UTHD-Banner-Background-01.jpg
END:VEVENT
BEGIN:VEVENT
DTSTART;TZID=America/Los_Angeles:20250918T100000
DTEND;TZID=America/Los_Angeles:20250918T110000
DTSTAMP:20260422T044558
CREATED:20241121T154539Z
LAST-MODIFIED:20250723T171536Z
UID:10000508-1758189600-1758193200@threeprinciplespsychology.com
SUMMARY:Uncovering the Hidden Dimension
DESCRIPTION:There is a hidden dimension within you that has the answers you seek. The Three Principles of Mind\, Thought\, and Consciousness are a definite direction toward this dimension. \nLearn more and enroll here.
URL:https://threeprinciplespsychology.com/event/uncovering-the-hidden-dimension-2/2025-09-18/
CATEGORIES:Uncovering the Hidden Dimension
ATTACH;FMTTYPE=image/jpeg:https://threeprinciplespsychology.com/wp-content/uploads/2024/09/3PP-UTHD-Banner-Background-01.jpg
END:VEVENT
BEGIN:VEVENT
DTSTART;TZID=America/Los_Angeles:20250904T100000
DTEND;TZID=America/Los_Angeles:20250904T110000
DTSTAMP:20260422T044558
CREATED:20241121T154444Z
LAST-MODIFIED:20250723T171611Z
UID:10000447-1756980000-1756983600@threeprinciplespsychology.com
SUMMARY:Uncovering the Hidden Dimension
DESCRIPTION:The Three Principles reveal a dimension of life we didn’t know existed. It’s where genuine mental health lives\, and techniques and willpower become completely redundant. \nLearn more and Enroll here.
URL:https://threeprinciplespsychology.com/event/uncovering-the-hidden-dimension/2025-09-04/
CATEGORIES:Uncovering the Hidden Dimension
ATTACH;FMTTYPE=image/jpeg:https://threeprinciplespsychology.com/wp-content/uploads/2024/09/3PP-UTHD-Banner-Background-01.jpg
END:VEVENT
BEGIN:VEVENT
DTSTART;TZID=America/Los_Angeles:20250821T100000
DTEND;TZID=America/Los_Angeles:20250821T110000
DTSTAMP:20260422T044558
CREATED:20241121T154539Z
LAST-MODIFIED:20250723T171536Z
UID:10000507-1755770400-1755774000@threeprinciplespsychology.com
SUMMARY:Uncovering the Hidden Dimension
DESCRIPTION:There is a hidden dimension within you that has the answers you seek. The Three Principles of Mind\, Thought\, and Consciousness are a definite direction toward this dimension. \nLearn more and enroll here.
URL:https://threeprinciplespsychology.com/event/uncovering-the-hidden-dimension-2/2025-08-21/
CATEGORIES:Uncovering the Hidden Dimension
ATTACH;FMTTYPE=image/jpeg:https://threeprinciplespsychology.com/wp-content/uploads/2024/09/3PP-UTHD-Banner-Background-01.jpg
END:VEVENT
BEGIN:VEVENT
DTSTART;TZID=America/Los_Angeles:20250807T100000
DTEND;TZID=America/Los_Angeles:20250807T110000
DTSTAMP:20260422T044558
CREATED:20241121T154444Z
LAST-MODIFIED:20250723T171611Z
UID:10000446-1754560800-1754564400@threeprinciplespsychology.com
SUMMARY:Uncovering the Hidden Dimension
DESCRIPTION:The Three Principles reveal a dimension of life we didn’t know existed. It’s where genuine mental health lives\, and techniques and willpower become completely redundant. \nLearn more and Enroll here.
URL:https://threeprinciplespsychology.com/event/uncovering-the-hidden-dimension/2025-08-07/
CATEGORIES:Uncovering the Hidden Dimension
ATTACH;FMTTYPE=image/jpeg:https://threeprinciplespsychology.com/wp-content/uploads/2024/09/3PP-UTHD-Banner-Background-01.jpg
END:VEVENT
BEGIN:VEVENT
DTSTART;TZID=America/Los_Angeles:20250717T100000
DTEND;TZID=America/Los_Angeles:20250717T110000
DTSTAMP:20260422T044558
CREATED:20241121T154539Z
LAST-MODIFIED:20250723T171536Z
UID:10000506-1752746400-1752750000@threeprinciplespsychology.com
SUMMARY:Uncovering the Hidden Dimension
DESCRIPTION:There is a hidden dimension within you that has the answers you seek. The Three Principles of Mind\, Thought\, and Consciousness are a definite direction toward this dimension. \nLearn more and enroll here.
URL:https://threeprinciplespsychology.com/event/uncovering-the-hidden-dimension-2/2025-07-17/
CATEGORIES:Uncovering the Hidden Dimension
ATTACH;FMTTYPE=image/jpeg:https://threeprinciplespsychology.com/wp-content/uploads/2024/09/3PP-UTHD-Banner-Background-01.jpg
END:VEVENT
BEGIN:VEVENT
DTSTART;TZID=America/Los_Angeles:20250703T100000
DTEND;TZID=America/Los_Angeles:20250703T110000
DTSTAMP:20260422T044558
CREATED:20241121T154444Z
LAST-MODIFIED:20250723T171611Z
UID:10000445-1751536800-1751540400@threeprinciplespsychology.com
SUMMARY:Uncovering the Hidden Dimension
DESCRIPTION:The Three Principles reveal a dimension of life we didn’t know existed. It’s where genuine mental health lives\, and techniques and willpower become completely redundant. \nLearn more and Enroll here.
URL:https://threeprinciplespsychology.com/event/uncovering-the-hidden-dimension/2025-07-03/
CATEGORIES:Uncovering the Hidden Dimension
ATTACH;FMTTYPE=image/jpeg:https://threeprinciplespsychology.com/wp-content/uploads/2024/09/3PP-UTHD-Banner-Background-01.jpg
END:VEVENT
BEGIN:VEVENT
DTSTART;TZID=America/Los_Angeles:20250619T100000
DTEND;TZID=America/Los_Angeles:20250619T110000
DTSTAMP:20260422T044558
CREATED:20241121T154539Z
LAST-MODIFIED:20250723T171536Z
UID:10000505-1750327200-1750330800@threeprinciplespsychology.com
SUMMARY:Uncovering the Hidden Dimension
DESCRIPTION:There is a hidden dimension within you that has the answers you seek. The Three Principles of Mind\, Thought\, and Consciousness are a definite direction toward this dimension. \nLearn more and enroll here.
URL:https://threeprinciplespsychology.com/event/uncovering-the-hidden-dimension-2/2025-06-19/
CATEGORIES:Uncovering the Hidden Dimension
ATTACH;FMTTYPE=image/jpeg:https://threeprinciplespsychology.com/wp-content/uploads/2024/09/3PP-UTHD-Banner-Background-01.jpg
END:VEVENT
BEGIN:VEVENT
DTSTART;TZID=America/Los_Angeles:20250605T100000
DTEND;TZID=America/Los_Angeles:20250605T110000
DTSTAMP:20260422T044558
CREATED:20241121T154444Z
LAST-MODIFIED:20250723T171611Z
UID:10000444-1749117600-1749121200@threeprinciplespsychology.com
SUMMARY:Uncovering the Hidden Dimension
DESCRIPTION:The Three Principles reveal a dimension of life we didn’t know existed. It’s where genuine mental health lives\, and techniques and willpower become completely redundant. \nLearn more and Enroll here.
URL:https://threeprinciplespsychology.com/event/uncovering-the-hidden-dimension/2025-06-05/
CATEGORIES:Uncovering the Hidden Dimension
ATTACH;FMTTYPE=image/jpeg:https://threeprinciplespsychology.com/wp-content/uploads/2024/09/3PP-UTHD-Banner-Background-01.jpg
END:VEVENT
BEGIN:VEVENT
DTSTART;TZID=America/Los_Angeles:20250515T100000
DTEND;TZID=America/Los_Angeles:20250515T110000
DTSTAMP:20260422T044558
CREATED:20241121T154539Z
LAST-MODIFIED:20250723T171536Z
UID:10000504-1747303200-1747306800@threeprinciplespsychology.com
SUMMARY:Uncovering the Hidden Dimension
DESCRIPTION:There is a hidden dimension within you that has the answers you seek. The Three Principles of Mind\, Thought\, and Consciousness are a definite direction toward this dimension. \nLearn more and enroll here.
URL:https://threeprinciplespsychology.com/event/uncovering-the-hidden-dimension-2/2025-05-15/
CATEGORIES:Uncovering the Hidden Dimension
ATTACH;FMTTYPE=image/jpeg:https://threeprinciplespsychology.com/wp-content/uploads/2024/09/3PP-UTHD-Banner-Background-01.jpg
END:VEVENT
BEGIN:VEVENT
DTSTART;TZID=America/Los_Angeles:20250501T100000
DTEND;TZID=America/Los_Angeles:20250501T110000
DTSTAMP:20260422T044558
CREATED:20241121T154444Z
LAST-MODIFIED:20250723T171611Z
UID:10000443-1746093600-1746097200@threeprinciplespsychology.com
SUMMARY:Uncovering the Hidden Dimension
DESCRIPTION:The Three Principles reveal a dimension of life we didn’t know existed. It’s where genuine mental health lives\, and techniques and willpower become completely redundant. \nLearn more and Enroll here.
URL:https://threeprinciplespsychology.com/event/uncovering-the-hidden-dimension/2025-05-01/
CATEGORIES:Uncovering the Hidden Dimension
ATTACH;FMTTYPE=image/jpeg:https://threeprinciplespsychology.com/wp-content/uploads/2024/09/3PP-UTHD-Banner-Background-01.jpg
END:VEVENT
BEGIN:VEVENT
DTSTART;TZID=America/Los_Angeles:20250417T100000
DTEND;TZID=America/Los_Angeles:20250417T110000
DTSTAMP:20260422T044558
CREATED:20241121T154539Z
LAST-MODIFIED:20250723T171536Z
UID:10000503-1744884000-1744887600@threeprinciplespsychology.com
SUMMARY:Uncovering the Hidden Dimension
DESCRIPTION:There is a hidden dimension within you that has the answers you seek. The Three Principles of Mind\, Thought\, and Consciousness are a definite direction toward this dimension. \nLearn more and enroll here.
URL:https://threeprinciplespsychology.com/event/uncovering-the-hidden-dimension-2/2025-04-17/
CATEGORIES:Uncovering the Hidden Dimension
ATTACH;FMTTYPE=image/jpeg:https://threeprinciplespsychology.com/wp-content/uploads/2024/09/3PP-UTHD-Banner-Background-01.jpg
END:VEVENT
BEGIN:VEVENT
DTSTART;TZID=America/Los_Angeles:20250403T100000
DTEND;TZID=America/Los_Angeles:20250403T110000
DTSTAMP:20260422T044558
CREATED:20241121T154444Z
LAST-MODIFIED:20250723T171611Z
UID:10000442-1743674400-1743678000@threeprinciplespsychology.com
SUMMARY:Uncovering the Hidden Dimension
DESCRIPTION:The Three Principles reveal a dimension of life we didn’t know existed. It’s where genuine mental health lives\, and techniques and willpower become completely redundant. \nLearn more and Enroll here.
URL:https://threeprinciplespsychology.com/event/uncovering-the-hidden-dimension/2025-04-03/
CATEGORIES:Uncovering the Hidden Dimension
ATTACH;FMTTYPE=image/jpeg:https://threeprinciplespsychology.com/wp-content/uploads/2024/09/3PP-UTHD-Banner-Background-01.jpg
END:VEVENT
BEGIN:VEVENT
DTSTART;TZID=America/Los_Angeles:20250320T100000
DTEND;TZID=America/Los_Angeles:20250320T110000
DTSTAMP:20260422T044558
CREATED:20241121T154539Z
LAST-MODIFIED:20250723T171536Z
UID:10000502-1742464800-1742468400@threeprinciplespsychology.com
SUMMARY:Uncovering the Hidden Dimension
DESCRIPTION:There is a hidden dimension within you that has the answers you seek. The Three Principles of Mind\, Thought\, and Consciousness are a definite direction toward this dimension. \nLearn more and enroll here.
URL:https://threeprinciplespsychology.com/event/uncovering-the-hidden-dimension-2/2025-03-20/
CATEGORIES:Uncovering the Hidden Dimension
ATTACH;FMTTYPE=image/jpeg:https://threeprinciplespsychology.com/wp-content/uploads/2024/09/3PP-UTHD-Banner-Background-01.jpg
END:VEVENT
BEGIN:VEVENT
DTSTART;TZID=America/Los_Angeles:20250306T100000
DTEND;TZID=America/Los_Angeles:20250306T110000
DTSTAMP:20260422T044558
CREATED:20241121T154444Z
LAST-MODIFIED:20250723T171611Z
UID:10000441-1741255200-1741258800@threeprinciplespsychology.com
SUMMARY:Uncovering the Hidden Dimension
DESCRIPTION:The Three Principles reveal a dimension of life we didn’t know existed. It’s where genuine mental health lives\, and techniques and willpower become completely redundant. \nLearn more and Enroll here.
URL:https://threeprinciplespsychology.com/event/uncovering-the-hidden-dimension/2025-03-06/
CATEGORIES:Uncovering the Hidden Dimension
ATTACH;FMTTYPE=image/jpeg:https://threeprinciplespsychology.com/wp-content/uploads/2024/09/3PP-UTHD-Banner-Background-01.jpg
END:VEVENT
BEGIN:VEVENT
DTSTART;TZID=America/Los_Angeles:20250220T100000
DTEND;TZID=America/Los_Angeles:20250220T110000
DTSTAMP:20260422T044558
CREATED:20241121T154539Z
LAST-MODIFIED:20250723T171536Z
UID:10000501-1740045600-1740049200@threeprinciplespsychology.com
SUMMARY:Uncovering the Hidden Dimension
DESCRIPTION:There is a hidden dimension within you that has the answers you seek. The Three Principles of Mind\, Thought\, and Consciousness are a definite direction toward this dimension. \nLearn more and enroll here.
URL:https://threeprinciplespsychology.com/event/uncovering-the-hidden-dimension-2/2025-02-20/
CATEGORIES:Uncovering the Hidden Dimension
ATTACH;FMTTYPE=image/jpeg:https://threeprinciplespsychology.com/wp-content/uploads/2024/09/3PP-UTHD-Banner-Background-01.jpg
END:VEVENT
BEGIN:VEVENT
DTSTART;TZID=America/Los_Angeles:20250206T100000
DTEND;TZID=America/Los_Angeles:20250206T110000
DTSTAMP:20260422T044558
CREATED:20241121T154444Z
LAST-MODIFIED:20250723T171611Z
UID:10000440-1738836000-1738839600@threeprinciplespsychology.com
SUMMARY:Uncovering the Hidden Dimension
DESCRIPTION:The Three Principles reveal a dimension of life we didn’t know existed. It’s where genuine mental health lives\, and techniques and willpower become completely redundant. \nLearn more and Enroll here.
URL:https://threeprinciplespsychology.com/event/uncovering-the-hidden-dimension/2025-02-06/
CATEGORIES:Uncovering the Hidden Dimension
ATTACH;FMTTYPE=image/jpeg:https://threeprinciplespsychology.com/wp-content/uploads/2024/09/3PP-UTHD-Banner-Background-01.jpg
END:VEVENT
BEGIN:VEVENT
DTSTART;TZID=America/Los_Angeles:20250116T100000
DTEND;TZID=America/Los_Angeles:20250116T110000
DTSTAMP:20260422T044558
CREATED:20241121T154539Z
LAST-MODIFIED:20250723T171536Z
UID:10000500-1737021600-1737025200@threeprinciplespsychology.com
SUMMARY:Uncovering the Hidden Dimension
DESCRIPTION:There is a hidden dimension within you that has the answers you seek. The Three Principles of Mind\, Thought\, and Consciousness are a definite direction toward this dimension. \nLearn more and enroll here.
URL:https://threeprinciplespsychology.com/event/uncovering-the-hidden-dimension-2/2025-01-16/
CATEGORIES:Uncovering the Hidden Dimension
ATTACH;FMTTYPE=image/jpeg:https://threeprinciplespsychology.com/wp-content/uploads/2024/09/3PP-UTHD-Banner-Background-01.jpg
END:VEVENT
BEGIN:VEVENT
DTSTART;TZID=America/Los_Angeles:20250102T100000
DTEND;TZID=America/Los_Angeles:20250102T110000
DTSTAMP:20260422T044558
CREATED:20241121T154444Z
LAST-MODIFIED:20250723T171611Z
UID:10000439-1735812000-1735815600@threeprinciplespsychology.com
SUMMARY:Uncovering the Hidden Dimension
DESCRIPTION:The Three Principles reveal a dimension of life we didn’t know existed. It’s where genuine mental health lives\, and techniques and willpower become completely redundant. \nLearn more and Enroll here.
URL:https://threeprinciplespsychology.com/event/uncovering-the-hidden-dimension/2025-01-02/
CATEGORIES:Uncovering the Hidden Dimension
ATTACH;FMTTYPE=image/jpeg:https://threeprinciplespsychology.com/wp-content/uploads/2024/09/3PP-UTHD-Banner-Background-01.jpg
END:VEVENT
BEGIN:VEVENT
DTSTART;TZID=America/Los_Angeles:20241219T100000
DTEND;TZID=America/Los_Angeles:20241219T110000
DTSTAMP:20260422T044558
CREATED:20241121T154539Z
LAST-MODIFIED:20250723T171536Z
UID:10000499-1734602400-1734606000@threeprinciplespsychology.com
SUMMARY:Uncovering the Hidden Dimension
DESCRIPTION:There is a hidden dimension within you that has the answers you seek. The Three Principles of Mind\, Thought\, and Consciousness are a definite direction toward this dimension. \nLearn more and enroll here.
URL:https://threeprinciplespsychology.com/event/uncovering-the-hidden-dimension-2/2024-12-19/
CATEGORIES:Uncovering the Hidden Dimension
ATTACH;FMTTYPE=image/jpeg:https://threeprinciplespsychology.com/wp-content/uploads/2024/09/3PP-UTHD-Banner-Background-01.jpg
END:VEVENT
BEGIN:VEVENT
DTSTART;TZID=America/Los_Angeles:20241205T100000
DTEND;TZID=America/Los_Angeles:20241205T110000
DTSTAMP:20260422T044558
CREATED:20241121T154444Z
LAST-MODIFIED:20250723T171611Z
UID:10000438-1733392800-1733396400@threeprinciplespsychology.com
SUMMARY:Uncovering the Hidden Dimension
DESCRIPTION:The Three Principles reveal a dimension of life we didn’t know existed. It’s where genuine mental health lives\, and techniques and willpower become completely redundant. \nLearn more and Enroll here.
URL:https://threeprinciplespsychology.com/event/uncovering-the-hidden-dimension/2024-12-05/
CATEGORIES:Uncovering the Hidden Dimension
ATTACH;FMTTYPE=image/jpeg:https://threeprinciplespsychology.com/wp-content/uploads/2024/09/3PP-UTHD-Banner-Background-01.jpg
END:VEVENT
BEGIN:VEVENT
DTSTART;TZID=America/Los_Angeles:20241121T100000
DTEND;TZID=America/Los_Angeles:20241121T110000
DTSTAMP:20260422T044558
CREATED:20241121T154539Z
LAST-MODIFIED:20250723T171536Z
UID:10000498-1732183200-1732186800@threeprinciplespsychology.com
SUMMARY:Uncovering the Hidden Dimension
DESCRIPTION:There is a hidden dimension within you that has the answers you seek. The Three Principles of Mind\, Thought\, and Consciousness are a definite direction toward this dimension. \nLearn more and enroll here.
URL:https://threeprinciplespsychology.com/event/uncovering-the-hidden-dimension-2/2024-11-21/
CATEGORIES:Uncovering the Hidden Dimension
ATTACH;FMTTYPE=image/jpeg:https://threeprinciplespsychology.com/wp-content/uploads/2024/09/3PP-UTHD-Banner-Background-01.jpg
END:VEVENT
BEGIN:VEVENT
DTSTART;TZID=America/Los_Angeles:20241107T100000
DTEND;TZID=America/Los_Angeles:20241107T110000
DTSTAMP:20260422T044558
CREATED:20241121T154444Z
LAST-MODIFIED:20250723T171611Z
UID:10000437-1730973600-1730977200@threeprinciplespsychology.com
SUMMARY:Uncovering the Hidden Dimension
DESCRIPTION:The Three Principles reveal a dimension of life we didn’t know existed. It’s where genuine mental health lives\, and techniques and willpower become completely redundant. \nLearn more and Enroll here.
URL:https://threeprinciplespsychology.com/event/uncovering-the-hidden-dimension/2024-11-07/
CATEGORIES:Uncovering the Hidden Dimension
ATTACH;FMTTYPE=image/jpeg:https://threeprinciplespsychology.com/wp-content/uploads/2024/09/3PP-UTHD-Banner-Background-01.jpg
END:VEVENT
END:VCALENDAR