BEGIN:VCALENDAR
VERSION:2.0
PRODID:-//Three Principles Psychology - ECPv6.15.20//NONSGML v1.0//EN
CALSCALE:GREGORIAN
METHOD:PUBLISH
X-WR-CALNAME:Three Principles Psychology
X-ORIGINAL-URL:https://threeprinciplespsychology.com
X-WR-CALDESC:Events for Three Principles Psychology
REFRESH-INTERVAL;VALUE=DURATION:PT1H
X-Robots-Tag:noindex
X-PUBLISHED-TTL:PT1H
BEGIN:VTIMEZONE
TZID:America/Los_Angeles
BEGIN:DAYLIGHT
TZOFFSETFROM:-0800
TZOFFSETTO:-0700
TZNAME:PDT
DTSTART:20250309T100000
END:DAYLIGHT
BEGIN:STANDARD
TZOFFSETFROM:-0700
TZOFFSETTO:-0800
TZNAME:PST
DTSTART:20251102T090000
END:STANDARD
BEGIN:DAYLIGHT
TZOFFSETFROM:-0800
TZOFFSETTO:-0700
TZNAME:PDT
DTSTART:20260308T100000
END:DAYLIGHT
BEGIN:STANDARD
TZOFFSETFROM:-0700
TZOFFSETTO:-0800
TZNAME:PST
DTSTART:20261101T090000
END:STANDARD
BEGIN:DAYLIGHT
TZOFFSETFROM:-0800
TZOFFSETTO:-0700
TZNAME:PDT
DTSTART:20270314T100000
END:DAYLIGHT
BEGIN:STANDARD
TZOFFSETFROM:-0700
TZOFFSETTO:-0800
TZNAME:PST
DTSTART:20271107T090000
END:STANDARD
BEGIN:DAYLIGHT
TZOFFSETFROM:-0800
TZOFFSETTO:-0700
TZNAME:PDT
DTSTART:20280312T100000
END:DAYLIGHT
BEGIN:STANDARD
TZOFFSETFROM:-0700
TZOFFSETTO:-0800
TZNAME:PST
DTSTART:20281105T090000
END:STANDARD
END:VTIMEZONE
BEGIN:VEVENT
DTSTART;TZID=America/Los_Angeles:20270318T100000
DTEND;TZID=America/Los_Angeles:20270318T110000
DTSTAMP:20260421T194233
CREATED:20241121T154539Z
LAST-MODIFIED:20250723T171536Z
UID:10000526-1805364000-1805367600@threeprinciplespsychology.com
SUMMARY:Uncovering the Hidden Dimension
DESCRIPTION:There is a hidden dimension within you that has the answers you seek. The Three Principles of Mind\, Thought\, and Consciousness are a definite direction toward this dimension. \nLearn more and enroll here.
URL:https://threeprinciplespsychology.com/event/uncovering-the-hidden-dimension-2/2027-03-18/
CATEGORIES:Uncovering the Hidden Dimension
ATTACH;FMTTYPE=image/jpeg:https://threeprinciplespsychology.com/wp-content/uploads/2024/09/3PP-UTHD-Banner-Background-01.jpg
END:VEVENT
BEGIN:VEVENT
DTSTART;TZID=America/Los_Angeles:20270304T100000
DTEND;TZID=America/Los_Angeles:20270304T110000
DTSTAMP:20260421T194233
CREATED:20241121T154444Z
LAST-MODIFIED:20250723T171611Z
UID:10000465-1804154400-1804158000@threeprinciplespsychology.com
SUMMARY:Uncovering the Hidden Dimension
DESCRIPTION:The Three Principles reveal a dimension of life we didn’t know existed. It’s where genuine mental health lives\, and techniques and willpower become completely redundant. \nLearn more and Enroll here.
URL:https://threeprinciplespsychology.com/event/uncovering-the-hidden-dimension/2027-03-04/
CATEGORIES:Uncovering the Hidden Dimension
ATTACH;FMTTYPE=image/jpeg:https://threeprinciplespsychology.com/wp-content/uploads/2024/09/3PP-UTHD-Banner-Background-01.jpg
END:VEVENT
BEGIN:VEVENT
DTSTART;TZID=America/Los_Angeles:20270218T100000
DTEND;TZID=America/Los_Angeles:20270218T110000
DTSTAMP:20260421T194233
CREATED:20241121T154539Z
LAST-MODIFIED:20250723T171536Z
UID:10000525-1802944800-1802948400@threeprinciplespsychology.com
SUMMARY:Uncovering the Hidden Dimension
DESCRIPTION:There is a hidden dimension within you that has the answers you seek. The Three Principles of Mind\, Thought\, and Consciousness are a definite direction toward this dimension. \nLearn more and enroll here.
URL:https://threeprinciplespsychology.com/event/uncovering-the-hidden-dimension-2/2027-02-18/
CATEGORIES:Uncovering the Hidden Dimension
ATTACH;FMTTYPE=image/jpeg:https://threeprinciplespsychology.com/wp-content/uploads/2024/09/3PP-UTHD-Banner-Background-01.jpg
END:VEVENT
BEGIN:VEVENT
DTSTART;TZID=America/Los_Angeles:20270204T100000
DTEND;TZID=America/Los_Angeles:20270204T110000
DTSTAMP:20260421T194233
CREATED:20241121T154444Z
LAST-MODIFIED:20250723T171611Z
UID:10000464-1801735200-1801738800@threeprinciplespsychology.com
SUMMARY:Uncovering the Hidden Dimension
DESCRIPTION:The Three Principles reveal a dimension of life we didn’t know existed. It’s where genuine mental health lives\, and techniques and willpower become completely redundant. \nLearn more and Enroll here.
URL:https://threeprinciplespsychology.com/event/uncovering-the-hidden-dimension/2027-02-04/
CATEGORIES:Uncovering the Hidden Dimension
ATTACH;FMTTYPE=image/jpeg:https://threeprinciplespsychology.com/wp-content/uploads/2024/09/3PP-UTHD-Banner-Background-01.jpg
END:VEVENT
BEGIN:VEVENT
DTSTART;TZID=America/Los_Angeles:20270121T100000
DTEND;TZID=America/Los_Angeles:20270121T110000
DTSTAMP:20260421T194233
CREATED:20241121T154539Z
LAST-MODIFIED:20250723T171536Z
UID:10000524-1800525600-1800529200@threeprinciplespsychology.com
SUMMARY:Uncovering the Hidden Dimension
DESCRIPTION:There is a hidden dimension within you that has the answers you seek. The Three Principles of Mind\, Thought\, and Consciousness are a definite direction toward this dimension. \nLearn more and enroll here.
URL:https://threeprinciplespsychology.com/event/uncovering-the-hidden-dimension-2/2027-01-21/
CATEGORIES:Uncovering the Hidden Dimension
ATTACH;FMTTYPE=image/jpeg:https://threeprinciplespsychology.com/wp-content/uploads/2024/09/3PP-UTHD-Banner-Background-01.jpg
END:VEVENT
BEGIN:VEVENT
DTSTART;TZID=America/Los_Angeles:20270107T100000
DTEND;TZID=America/Los_Angeles:20270107T110000
DTSTAMP:20260421T194233
CREATED:20241121T154444Z
LAST-MODIFIED:20250723T171611Z
UID:10000463-1799316000-1799319600@threeprinciplespsychology.com
SUMMARY:Uncovering the Hidden Dimension
DESCRIPTION:The Three Principles reveal a dimension of life we didn’t know existed. It’s where genuine mental health lives\, and techniques and willpower become completely redundant. \nLearn more and Enroll here.
URL:https://threeprinciplespsychology.com/event/uncovering-the-hidden-dimension/2027-01-07/
CATEGORIES:Uncovering the Hidden Dimension
ATTACH;FMTTYPE=image/jpeg:https://threeprinciplespsychology.com/wp-content/uploads/2024/09/3PP-UTHD-Banner-Background-01.jpg
END:VEVENT
BEGIN:VEVENT
DTSTART;TZID=America/Los_Angeles:20261217T100000
DTEND;TZID=America/Los_Angeles:20261217T110000
DTSTAMP:20260421T194233
CREATED:20241121T154539Z
LAST-MODIFIED:20250723T171536Z
UID:10000523-1797501600-1797505200@threeprinciplespsychology.com
SUMMARY:Uncovering the Hidden Dimension
DESCRIPTION:There is a hidden dimension within you that has the answers you seek. The Three Principles of Mind\, Thought\, and Consciousness are a definite direction toward this dimension. \nLearn more and enroll here.
URL:https://threeprinciplespsychology.com/event/uncovering-the-hidden-dimension-2/2026-12-17/
CATEGORIES:Uncovering the Hidden Dimension
ATTACH;FMTTYPE=image/jpeg:https://threeprinciplespsychology.com/wp-content/uploads/2024/09/3PP-UTHD-Banner-Background-01.jpg
END:VEVENT
BEGIN:VEVENT
DTSTART;TZID=America/Los_Angeles:20261203T100000
DTEND;TZID=America/Los_Angeles:20261203T110000
DTSTAMP:20260421T194233
CREATED:20241121T154444Z
LAST-MODIFIED:20250723T171611Z
UID:10000462-1796292000-1796295600@threeprinciplespsychology.com
SUMMARY:Uncovering the Hidden Dimension
DESCRIPTION:The Three Principles reveal a dimension of life we didn’t know existed. It’s where genuine mental health lives\, and techniques and willpower become completely redundant. \nLearn more and Enroll here.
URL:https://threeprinciplespsychology.com/event/uncovering-the-hidden-dimension/2026-12-03/
CATEGORIES:Uncovering the Hidden Dimension
ATTACH;FMTTYPE=image/jpeg:https://threeprinciplespsychology.com/wp-content/uploads/2024/09/3PP-UTHD-Banner-Background-01.jpg
END:VEVENT
BEGIN:VEVENT
DTSTART;TZID=America/Los_Angeles:20261119T100000
DTEND;TZID=America/Los_Angeles:20261119T110000
DTSTAMP:20260421T194233
CREATED:20241121T154539Z
LAST-MODIFIED:20250723T171536Z
UID:10000522-1795082400-1795086000@threeprinciplespsychology.com
SUMMARY:Uncovering the Hidden Dimension
DESCRIPTION:There is a hidden dimension within you that has the answers you seek. The Three Principles of Mind\, Thought\, and Consciousness are a definite direction toward this dimension. \nLearn more and enroll here.
URL:https://threeprinciplespsychology.com/event/uncovering-the-hidden-dimension-2/2026-11-19/
CATEGORIES:Uncovering the Hidden Dimension
ATTACH;FMTTYPE=image/jpeg:https://threeprinciplespsychology.com/wp-content/uploads/2024/09/3PP-UTHD-Banner-Background-01.jpg
END:VEVENT
BEGIN:VEVENT
DTSTART;TZID=America/Los_Angeles:20261105T100000
DTEND;TZID=America/Los_Angeles:20261105T110000
DTSTAMP:20260421T194233
CREATED:20241121T154444Z
LAST-MODIFIED:20250723T171611Z
UID:10000461-1793872800-1793876400@threeprinciplespsychology.com
SUMMARY:Uncovering the Hidden Dimension
DESCRIPTION:The Three Principles reveal a dimension of life we didn’t know existed. It’s where genuine mental health lives\, and techniques and willpower become completely redundant. \nLearn more and Enroll here.
URL:https://threeprinciplespsychology.com/event/uncovering-the-hidden-dimension/2026-11-05/
CATEGORIES:Uncovering the Hidden Dimension
ATTACH;FMTTYPE=image/jpeg:https://threeprinciplespsychology.com/wp-content/uploads/2024/09/3PP-UTHD-Banner-Background-01.jpg
END:VEVENT
BEGIN:VEVENT
DTSTART;TZID=America/Los_Angeles:20261015T100000
DTEND;TZID=America/Los_Angeles:20261015T110000
DTSTAMP:20260421T194233
CREATED:20241121T154539Z
LAST-MODIFIED:20250723T171536Z
UID:10000521-1792058400-1792062000@threeprinciplespsychology.com
SUMMARY:Uncovering the Hidden Dimension
DESCRIPTION:There is a hidden dimension within you that has the answers you seek. The Three Principles of Mind\, Thought\, and Consciousness are a definite direction toward this dimension. \nLearn more and enroll here.
URL:https://threeprinciplespsychology.com/event/uncovering-the-hidden-dimension-2/2026-10-15/
CATEGORIES:Uncovering the Hidden Dimension
ATTACH;FMTTYPE=image/jpeg:https://threeprinciplespsychology.com/wp-content/uploads/2024/09/3PP-UTHD-Banner-Background-01.jpg
END:VEVENT
BEGIN:VEVENT
DTSTART;TZID=America/Los_Angeles:20261001T100000
DTEND;TZID=America/Los_Angeles:20261001T110000
DTSTAMP:20260421T194233
CREATED:20241121T154444Z
LAST-MODIFIED:20250723T171611Z
UID:10000460-1790848800-1790852400@threeprinciplespsychology.com
SUMMARY:Uncovering the Hidden Dimension
DESCRIPTION:The Three Principles reveal a dimension of life we didn’t know existed. It’s where genuine mental health lives\, and techniques and willpower become completely redundant. \nLearn more and Enroll here.
URL:https://threeprinciplespsychology.com/event/uncovering-the-hidden-dimension/2026-10-01/
CATEGORIES:Uncovering the Hidden Dimension
ATTACH;FMTTYPE=image/jpeg:https://threeprinciplespsychology.com/wp-content/uploads/2024/09/3PP-UTHD-Banner-Background-01.jpg
END:VEVENT
BEGIN:VEVENT
DTSTART;TZID=America/Los_Angeles:20260917T100000
DTEND;TZID=America/Los_Angeles:20260917T110000
DTSTAMP:20260421T194233
CREATED:20241121T154539Z
LAST-MODIFIED:20250723T171536Z
UID:10000520-1789639200-1789642800@threeprinciplespsychology.com
SUMMARY:Uncovering the Hidden Dimension
DESCRIPTION:There is a hidden dimension within you that has the answers you seek. The Three Principles of Mind\, Thought\, and Consciousness are a definite direction toward this dimension. \nLearn more and enroll here.
URL:https://threeprinciplespsychology.com/event/uncovering-the-hidden-dimension-2/2026-09-17/
CATEGORIES:Uncovering the Hidden Dimension
ATTACH;FMTTYPE=image/jpeg:https://threeprinciplespsychology.com/wp-content/uploads/2024/09/3PP-UTHD-Banner-Background-01.jpg
END:VEVENT
BEGIN:VEVENT
DTSTART;TZID=America/Los_Angeles:20260903T100000
DTEND;TZID=America/Los_Angeles:20260903T110000
DTSTAMP:20260421T194233
CREATED:20241121T154444Z
LAST-MODIFIED:20250723T171611Z
UID:10000459-1788429600-1788433200@threeprinciplespsychology.com
SUMMARY:Uncovering the Hidden Dimension
DESCRIPTION:The Three Principles reveal a dimension of life we didn’t know existed. It’s where genuine mental health lives\, and techniques and willpower become completely redundant. \nLearn more and Enroll here.
URL:https://threeprinciplespsychology.com/event/uncovering-the-hidden-dimension/2026-09-03/
CATEGORIES:Uncovering the Hidden Dimension
ATTACH;FMTTYPE=image/jpeg:https://threeprinciplespsychology.com/wp-content/uploads/2024/09/3PP-UTHD-Banner-Background-01.jpg
END:VEVENT
BEGIN:VEVENT
DTSTART;TZID=America/Los_Angeles:20260820T100000
DTEND;TZID=America/Los_Angeles:20260820T110000
DTSTAMP:20260421T194233
CREATED:20241121T154539Z
LAST-MODIFIED:20250723T171536Z
UID:10000519-1787220000-1787223600@threeprinciplespsychology.com
SUMMARY:Uncovering the Hidden Dimension
DESCRIPTION:There is a hidden dimension within you that has the answers you seek. The Three Principles of Mind\, Thought\, and Consciousness are a definite direction toward this dimension. \nLearn more and enroll here.
URL:https://threeprinciplespsychology.com/event/uncovering-the-hidden-dimension-2/2026-08-20/
CATEGORIES:Uncovering the Hidden Dimension
ATTACH;FMTTYPE=image/jpeg:https://threeprinciplespsychology.com/wp-content/uploads/2024/09/3PP-UTHD-Banner-Background-01.jpg
END:VEVENT
BEGIN:VEVENT
DTSTART;TZID=America/Los_Angeles:20260806T100000
DTEND;TZID=America/Los_Angeles:20260806T110000
DTSTAMP:20260421T194233
CREATED:20241121T154444Z
LAST-MODIFIED:20250723T171611Z
UID:10000458-1786010400-1786014000@threeprinciplespsychology.com
SUMMARY:Uncovering the Hidden Dimension
DESCRIPTION:The Three Principles reveal a dimension of life we didn’t know existed. It’s where genuine mental health lives\, and techniques and willpower become completely redundant. \nLearn more and Enroll here.
URL:https://threeprinciplespsychology.com/event/uncovering-the-hidden-dimension/2026-08-06/
CATEGORIES:Uncovering the Hidden Dimension
ATTACH;FMTTYPE=image/jpeg:https://threeprinciplespsychology.com/wp-content/uploads/2024/09/3PP-UTHD-Banner-Background-01.jpg
END:VEVENT
BEGIN:VEVENT
DTSTART;TZID=America/Los_Angeles:20260716T100000
DTEND;TZID=America/Los_Angeles:20260716T110000
DTSTAMP:20260421T194233
CREATED:20241121T154539Z
LAST-MODIFIED:20250723T171536Z
UID:10000518-1784196000-1784199600@threeprinciplespsychology.com
SUMMARY:Uncovering the Hidden Dimension
DESCRIPTION:There is a hidden dimension within you that has the answers you seek. The Three Principles of Mind\, Thought\, and Consciousness are a definite direction toward this dimension. \nLearn more and enroll here.
URL:https://threeprinciplespsychology.com/event/uncovering-the-hidden-dimension-2/2026-07-16/
CATEGORIES:Uncovering the Hidden Dimension
ATTACH;FMTTYPE=image/jpeg:https://threeprinciplespsychology.com/wp-content/uploads/2024/09/3PP-UTHD-Banner-Background-01.jpg
END:VEVENT
BEGIN:VEVENT
DTSTART;TZID=America/Los_Angeles:20260702T100000
DTEND;TZID=America/Los_Angeles:20260702T110000
DTSTAMP:20260421T194233
CREATED:20241121T154444Z
LAST-MODIFIED:20250723T171611Z
UID:10000457-1782986400-1782990000@threeprinciplespsychology.com
SUMMARY:Uncovering the Hidden Dimension
DESCRIPTION:The Three Principles reveal a dimension of life we didn’t know existed. It’s where genuine mental health lives\, and techniques and willpower become completely redundant. \nLearn more and Enroll here.
URL:https://threeprinciplespsychology.com/event/uncovering-the-hidden-dimension/2026-07-02/
CATEGORIES:Uncovering the Hidden Dimension
ATTACH;FMTTYPE=image/jpeg:https://threeprinciplespsychology.com/wp-content/uploads/2024/09/3PP-UTHD-Banner-Background-01.jpg
END:VEVENT
BEGIN:VEVENT
DTSTART;TZID=America/Los_Angeles:20260618T100000
DTEND;TZID=America/Los_Angeles:20260618T110000
DTSTAMP:20260421T194233
CREATED:20241121T154539Z
LAST-MODIFIED:20250723T171536Z
UID:10000517-1781776800-1781780400@threeprinciplespsychology.com
SUMMARY:Uncovering the Hidden Dimension
DESCRIPTION:There is a hidden dimension within you that has the answers you seek. The Three Principles of Mind\, Thought\, and Consciousness are a definite direction toward this dimension. \nLearn more and enroll here.
URL:https://threeprinciplespsychology.com/event/uncovering-the-hidden-dimension-2/2026-06-18/
CATEGORIES:Uncovering the Hidden Dimension
ATTACH;FMTTYPE=image/jpeg:https://threeprinciplespsychology.com/wp-content/uploads/2024/09/3PP-UTHD-Banner-Background-01.jpg
END:VEVENT
BEGIN:VEVENT
DTSTART;TZID=America/Los_Angeles:20260604T100000
DTEND;TZID=America/Los_Angeles:20260604T110000
DTSTAMP:20260421T194233
CREATED:20241121T154444Z
LAST-MODIFIED:20250723T171611Z
UID:10000456-1780567200-1780570800@threeprinciplespsychology.com
SUMMARY:Uncovering the Hidden Dimension
DESCRIPTION:The Three Principles reveal a dimension of life we didn’t know existed. It’s where genuine mental health lives\, and techniques and willpower become completely redundant. \nLearn more and Enroll here.
URL:https://threeprinciplespsychology.com/event/uncovering-the-hidden-dimension/2026-06-04/
CATEGORIES:Uncovering the Hidden Dimension
ATTACH;FMTTYPE=image/jpeg:https://threeprinciplespsychology.com/wp-content/uploads/2024/09/3PP-UTHD-Banner-Background-01.jpg
END:VEVENT
BEGIN:VEVENT
DTSTART;TZID=America/Los_Angeles:20260521T100000
DTEND;TZID=America/Los_Angeles:20260521T110000
DTSTAMP:20260421T194233
CREATED:20241121T154539Z
LAST-MODIFIED:20250723T171536Z
UID:10000516-1779357600-1779361200@threeprinciplespsychology.com
SUMMARY:Uncovering the Hidden Dimension
DESCRIPTION:There is a hidden dimension within you that has the answers you seek. The Three Principles of Mind\, Thought\, and Consciousness are a definite direction toward this dimension. \nLearn more and enroll here.
URL:https://threeprinciplespsychology.com/event/uncovering-the-hidden-dimension-2/2026-05-21/
CATEGORIES:Uncovering the Hidden Dimension
ATTACH;FMTTYPE=image/jpeg:https://threeprinciplespsychology.com/wp-content/uploads/2024/09/3PP-UTHD-Banner-Background-01.jpg
END:VEVENT
BEGIN:VEVENT
DTSTART;TZID=America/Los_Angeles:20260507T100000
DTEND;TZID=America/Los_Angeles:20260507T110000
DTSTAMP:20260421T194233
CREATED:20241121T154444Z
LAST-MODIFIED:20250723T171611Z
UID:10000455-1778148000-1778151600@threeprinciplespsychology.com
SUMMARY:Uncovering the Hidden Dimension
DESCRIPTION:The Three Principles reveal a dimension of life we didn’t know existed. It’s where genuine mental health lives\, and techniques and willpower become completely redundant. \nLearn more and Enroll here.
URL:https://threeprinciplespsychology.com/event/uncovering-the-hidden-dimension/2026-05-07/
CATEGORIES:Uncovering the Hidden Dimension
ATTACH;FMTTYPE=image/jpeg:https://threeprinciplespsychology.com/wp-content/uploads/2024/09/3PP-UTHD-Banner-Background-01.jpg
END:VEVENT
BEGIN:VEVENT
DTSTART;TZID=America/Los_Angeles:20260416T100000
DTEND;TZID=America/Los_Angeles:20260416T110000
DTSTAMP:20260421T194233
CREATED:20241121T154539Z
LAST-MODIFIED:20250723T171536Z
UID:10000515-1776333600-1776337200@threeprinciplespsychology.com
SUMMARY:Uncovering the Hidden Dimension
DESCRIPTION:There is a hidden dimension within you that has the answers you seek. The Three Principles of Mind\, Thought\, and Consciousness are a definite direction toward this dimension. \nLearn more and enroll here.
URL:https://threeprinciplespsychology.com/event/uncovering-the-hidden-dimension-2/2026-04-16/
CATEGORIES:Uncovering the Hidden Dimension
ATTACH;FMTTYPE=image/jpeg:https://threeprinciplespsychology.com/wp-content/uploads/2024/09/3PP-UTHD-Banner-Background-01.jpg
END:VEVENT
BEGIN:VEVENT
DTSTART;TZID=America/Los_Angeles:20260402T100000
DTEND;TZID=America/Los_Angeles:20260402T110000
DTSTAMP:20260421T194233
CREATED:20241121T154444Z
LAST-MODIFIED:20250723T171611Z
UID:10000454-1775124000-1775127600@threeprinciplespsychology.com
SUMMARY:Uncovering the Hidden Dimension
DESCRIPTION:The Three Principles reveal a dimension of life we didn’t know existed. It’s where genuine mental health lives\, and techniques and willpower become completely redundant. \nLearn more and Enroll here.
URL:https://threeprinciplespsychology.com/event/uncovering-the-hidden-dimension/2026-04-02/
CATEGORIES:Uncovering the Hidden Dimension
ATTACH;FMTTYPE=image/jpeg:https://threeprinciplespsychology.com/wp-content/uploads/2024/09/3PP-UTHD-Banner-Background-01.jpg
END:VEVENT
BEGIN:VEVENT
DTSTART;TZID=America/Los_Angeles:20260319T100000
DTEND;TZID=America/Los_Angeles:20260319T110000
DTSTAMP:20260421T194233
CREATED:20241121T154539Z
LAST-MODIFIED:20250723T171536Z
UID:10000514-1773914400-1773918000@threeprinciplespsychology.com
SUMMARY:Uncovering the Hidden Dimension
DESCRIPTION:There is a hidden dimension within you that has the answers you seek. The Three Principles of Mind\, Thought\, and Consciousness are a definite direction toward this dimension. \nLearn more and enroll here.
URL:https://threeprinciplespsychology.com/event/uncovering-the-hidden-dimension-2/2026-03-19/
CATEGORIES:Uncovering the Hidden Dimension
ATTACH;FMTTYPE=image/jpeg:https://threeprinciplespsychology.com/wp-content/uploads/2024/09/3PP-UTHD-Banner-Background-01.jpg
END:VEVENT
BEGIN:VEVENT
DTSTART;TZID=America/Los_Angeles:20260305T100000
DTEND;TZID=America/Los_Angeles:20260305T110000
DTSTAMP:20260421T194233
CREATED:20241121T154444Z
LAST-MODIFIED:20250723T171611Z
UID:10000453-1772704800-1772708400@threeprinciplespsychology.com
SUMMARY:Uncovering the Hidden Dimension
DESCRIPTION:The Three Principles reveal a dimension of life we didn’t know existed. It’s where genuine mental health lives\, and techniques and willpower become completely redundant. \nLearn more and Enroll here.
URL:https://threeprinciplespsychology.com/event/uncovering-the-hidden-dimension/2026-03-05/
CATEGORIES:Uncovering the Hidden Dimension
ATTACH;FMTTYPE=image/jpeg:https://threeprinciplespsychology.com/wp-content/uploads/2024/09/3PP-UTHD-Banner-Background-01.jpg
END:VEVENT
BEGIN:VEVENT
DTSTART;TZID=America/Los_Angeles:20260219T100000
DTEND;TZID=America/Los_Angeles:20260219T110000
DTSTAMP:20260421T194233
CREATED:20241121T154539Z
LAST-MODIFIED:20250723T171536Z
UID:10000513-1771495200-1771498800@threeprinciplespsychology.com
SUMMARY:Uncovering the Hidden Dimension
DESCRIPTION:There is a hidden dimension within you that has the answers you seek. The Three Principles of Mind\, Thought\, and Consciousness are a definite direction toward this dimension. \nLearn more and enroll here.
URL:https://threeprinciplespsychology.com/event/uncovering-the-hidden-dimension-2/2026-02-19/
CATEGORIES:Uncovering the Hidden Dimension
ATTACH;FMTTYPE=image/jpeg:https://threeprinciplespsychology.com/wp-content/uploads/2024/09/3PP-UTHD-Banner-Background-01.jpg
END:VEVENT
BEGIN:VEVENT
DTSTART;TZID=America/Los_Angeles:20260205T100000
DTEND;TZID=America/Los_Angeles:20260205T110000
DTSTAMP:20260421T194233
CREATED:20241121T154444Z
LAST-MODIFIED:20250723T171611Z
UID:10000452-1770285600-1770289200@threeprinciplespsychology.com
SUMMARY:Uncovering the Hidden Dimension
DESCRIPTION:The Three Principles reveal a dimension of life we didn’t know existed. It’s where genuine mental health lives\, and techniques and willpower become completely redundant. \nLearn more and Enroll here.
URL:https://threeprinciplespsychology.com/event/uncovering-the-hidden-dimension/2026-02-05/
CATEGORIES:Uncovering the Hidden Dimension
ATTACH;FMTTYPE=image/jpeg:https://threeprinciplespsychology.com/wp-content/uploads/2024/09/3PP-UTHD-Banner-Background-01.jpg
END:VEVENT
BEGIN:VEVENT
DTSTART;TZID=America/Los_Angeles:20260115T100000
DTEND;TZID=America/Los_Angeles:20260115T110000
DTSTAMP:20260421T194233
CREATED:20241121T154539Z
LAST-MODIFIED:20250723T171536Z
UID:10000512-1768471200-1768474800@threeprinciplespsychology.com
SUMMARY:Uncovering the Hidden Dimension
DESCRIPTION:There is a hidden dimension within you that has the answers you seek. The Three Principles of Mind\, Thought\, and Consciousness are a definite direction toward this dimension. \nLearn more and enroll here.
URL:https://threeprinciplespsychology.com/event/uncovering-the-hidden-dimension-2/2026-01-15/
CATEGORIES:Uncovering the Hidden Dimension
ATTACH;FMTTYPE=image/jpeg:https://threeprinciplespsychology.com/wp-content/uploads/2024/09/3PP-UTHD-Banner-Background-01.jpg
END:VEVENT
BEGIN:VEVENT
DTSTART;TZID=America/Los_Angeles:20260108T100000
DTEND;TZID=America/Los_Angeles:20260108T110000
DTSTAMP:20260421T194233
CREATED:20251219T182508Z
LAST-MODIFIED:20251219T182531Z
UID:10000451-1767866400-1767870000@threeprinciplespsychology.com
SUMMARY:Uncovering the Hidden Dimension
DESCRIPTION:The Three Principles reveal a dimension of life we didn’t know existed. It’s where genuine mental health lives\, and techniques and willpower become completely redundant. \nLearn more and Enroll here.
URL:https://threeprinciplespsychology.com/event/uncovering-the-hidden-dimension-3/
CATEGORIES:Uncovering the Hidden Dimension
ATTACH;FMTTYPE=image/jpeg:https://threeprinciplespsychology.com/wp-content/uploads/2024/09/3PP-UTHD-Banner-Background-01.jpg
END:VEVENT
END:VCALENDAR