BEGIN:VCALENDAR
VERSION:2.0
PRODID:-//Three Principles Psychology - ECPv6.15.20//NONSGML v1.0//EN
CALSCALE:GREGORIAN
METHOD:PUBLISH
X-WR-CALNAME:Three Principles Psychology
X-ORIGINAL-URL:https://threeprinciplespsychology.com
X-WR-CALDESC:Events for Three Principles Psychology
REFRESH-INTERVAL;VALUE=DURATION:PT1H
X-Robots-Tag:noindex
X-PUBLISHED-TTL:PT1H
BEGIN:VTIMEZONE
TZID:America/Los_Angeles
BEGIN:DAYLIGHT
TZOFFSETFROM:-0800
TZOFFSETTO:-0700
TZNAME:PDT
DTSTART:20290311T100000
END:DAYLIGHT
BEGIN:STANDARD
TZOFFSETFROM:-0700
TZOFFSETTO:-0800
TZNAME:PST
DTSTART:20291104T090000
END:STANDARD
BEGIN:DAYLIGHT
TZOFFSETFROM:-0800
TZOFFSETTO:-0700
TZNAME:PDT
DTSTART:20300310T100000
END:DAYLIGHT
BEGIN:STANDARD
TZOFFSETFROM:-0700
TZOFFSETTO:-0800
TZNAME:PST
DTSTART:20301103T090000
END:STANDARD
BEGIN:DAYLIGHT
TZOFFSETFROM:-0800
TZOFFSETTO:-0700
TZNAME:PDT
DTSTART:20310309T100000
END:DAYLIGHT
BEGIN:STANDARD
TZOFFSETFROM:-0700
TZOFFSETTO:-0800
TZNAME:PST
DTSTART:20311102T090000
END:STANDARD
END:VTIMEZONE
BEGIN:VEVENT
DTSTART;TZID=America/Los_Angeles:20300516T100000
DTEND;TZID=America/Los_Angeles:20300516T110000
DTSTAMP:20260422T153525
CREATED:20241121T154539Z
LAST-MODIFIED:20250723T171536Z
UID:10000572-1905156000-1905159600@threeprinciplespsychology.com
SUMMARY:Uncovering the Hidden Dimension
DESCRIPTION:There is a hidden dimension within you that has the answers you seek. The Three Principles of Mind\, Thought\, and Consciousness are a definite direction toward this dimension. \nLearn more and enroll here.
URL:https://threeprinciplespsychology.com/event/uncovering-the-hidden-dimension-2/2030-05-16/
CATEGORIES:Uncovering the Hidden Dimension
ATTACH;FMTTYPE=image/jpeg:https://threeprinciplespsychology.com/wp-content/uploads/2024/09/3PP-UTHD-Banner-Background-01.jpg
END:VEVENT
BEGIN:VEVENT
DTSTART;TZID=America/Los_Angeles:20300606T100000
DTEND;TZID=America/Los_Angeles:20300606T110000
DTSTAMP:20260422T153525
CREATED:20241121T154444Z
LAST-MODIFIED:20250723T171611Z
UID:10000581-1906970400-1906974000@threeprinciplespsychology.com
SUMMARY:Uncovering the Hidden Dimension
DESCRIPTION:The Three Principles reveal a dimension of life we didn’t know existed. It’s where genuine mental health lives\, and techniques and willpower become completely redundant. \nLearn more and Enroll here.
URL:https://threeprinciplespsychology.com/event/uncovering-the-hidden-dimension/2030-06-06/
CATEGORIES:Uncovering the Hidden Dimension
ATTACH;FMTTYPE=image/jpeg:https://threeprinciplespsychology.com/wp-content/uploads/2024/09/3PP-UTHD-Banner-Background-01.jpg
END:VEVENT
BEGIN:VEVENT
DTSTART;TZID=America/Los_Angeles:20300620T100000
DTEND;TZID=America/Los_Angeles:20300620T110000
DTSTAMP:20260422T153525
CREATED:20241121T154539Z
LAST-MODIFIED:20250723T171536Z
UID:10000573-1908180000-1908183600@threeprinciplespsychology.com
SUMMARY:Uncovering the Hidden Dimension
DESCRIPTION:There is a hidden dimension within you that has the answers you seek. The Three Principles of Mind\, Thought\, and Consciousness are a definite direction toward this dimension. \nLearn more and enroll here.
URL:https://threeprinciplespsychology.com/event/uncovering-the-hidden-dimension-2/2030-06-20/
CATEGORIES:Uncovering the Hidden Dimension
ATTACH;FMTTYPE=image/jpeg:https://threeprinciplespsychology.com/wp-content/uploads/2024/09/3PP-UTHD-Banner-Background-01.jpg
END:VEVENT
BEGIN:VEVENT
DTSTART;TZID=America/Los_Angeles:20300704T100000
DTEND;TZID=America/Los_Angeles:20300704T110000
DTSTAMP:20260422T153525
CREATED:20241121T154444Z
LAST-MODIFIED:20250723T171611Z
UID:10000582-1909389600-1909393200@threeprinciplespsychology.com
SUMMARY:Uncovering the Hidden Dimension
DESCRIPTION:The Three Principles reveal a dimension of life we didn’t know existed. It’s where genuine mental health lives\, and techniques and willpower become completely redundant. \nLearn more and Enroll here.
URL:https://threeprinciplespsychology.com/event/uncovering-the-hidden-dimension/2030-07-04/
CATEGORIES:Uncovering the Hidden Dimension
ATTACH;FMTTYPE=image/jpeg:https://threeprinciplespsychology.com/wp-content/uploads/2024/09/3PP-UTHD-Banner-Background-01.jpg
END:VEVENT
BEGIN:VEVENT
DTSTART;TZID=America/Los_Angeles:20300718T100000
DTEND;TZID=America/Los_Angeles:20300718T110000
DTSTAMP:20260422T153525
CREATED:20241121T154539Z
LAST-MODIFIED:20250723T171536Z
UID:10000574-1910599200-1910602800@threeprinciplespsychology.com
SUMMARY:Uncovering the Hidden Dimension
DESCRIPTION:There is a hidden dimension within you that has the answers you seek. The Three Principles of Mind\, Thought\, and Consciousness are a definite direction toward this dimension. \nLearn more and enroll here.
URL:https://threeprinciplespsychology.com/event/uncovering-the-hidden-dimension-2/2030-07-18/
CATEGORIES:Uncovering the Hidden Dimension
ATTACH;FMTTYPE=image/jpeg:https://threeprinciplespsychology.com/wp-content/uploads/2024/09/3PP-UTHD-Banner-Background-01.jpg
END:VEVENT
BEGIN:VEVENT
DTSTART;TZID=America/Los_Angeles:20300801T100000
DTEND;TZID=America/Los_Angeles:20300801T110000
DTSTAMP:20260422T153525
CREATED:20241121T154444Z
LAST-MODIFIED:20250723T171611Z
UID:10000609-1911808800-1911812400@threeprinciplespsychology.com
SUMMARY:Uncovering the Hidden Dimension
DESCRIPTION:The Three Principles reveal a dimension of life we didn’t know existed. It’s where genuine mental health lives\, and techniques and willpower become completely redundant. \nLearn more and Enroll here.
URL:https://threeprinciplespsychology.com/event/uncovering-the-hidden-dimension/2030-08-01/
CATEGORIES:Uncovering the Hidden Dimension
ATTACH;FMTTYPE=image/jpeg:https://threeprinciplespsychology.com/wp-content/uploads/2024/09/3PP-UTHD-Banner-Background-01.jpg
END:VEVENT
BEGIN:VEVENT
DTSTART;TZID=America/Los_Angeles:20300905T100000
DTEND;TZID=America/Los_Angeles:20300905T110000
DTSTAMP:20260422T153525
CREATED:20241121T154444Z
LAST-MODIFIED:20250723T171611Z
UID:10000610-1914832800-1914836400@threeprinciplespsychology.com
SUMMARY:Uncovering the Hidden Dimension
DESCRIPTION:The Three Principles reveal a dimension of life we didn’t know existed. It’s where genuine mental health lives\, and techniques and willpower become completely redundant. \nLearn more and Enroll here.
URL:https://threeprinciplespsychology.com/event/uncovering-the-hidden-dimension/2030-09-05/
CATEGORIES:Uncovering the Hidden Dimension
ATTACH;FMTTYPE=image/jpeg:https://threeprinciplespsychology.com/wp-content/uploads/2024/09/3PP-UTHD-Banner-Background-01.jpg
END:VEVENT
BEGIN:VEVENT
DTSTART;TZID=America/Los_Angeles:20301003T100000
DTEND;TZID=America/Los_Angeles:20301003T110000
DTSTAMP:20260422T153525
CREATED:20241121T154444Z
LAST-MODIFIED:20250723T171611Z
UID:10000611-1917252000-1917255600@threeprinciplespsychology.com
SUMMARY:Uncovering the Hidden Dimension
DESCRIPTION:The Three Principles reveal a dimension of life we didn’t know existed. It’s where genuine mental health lives\, and techniques and willpower become completely redundant. \nLearn more and Enroll here.
URL:https://threeprinciplespsychology.com/event/uncovering-the-hidden-dimension/2030-10-03/
CATEGORIES:Uncovering the Hidden Dimension
ATTACH;FMTTYPE=image/jpeg:https://threeprinciplespsychology.com/wp-content/uploads/2024/09/3PP-UTHD-Banner-Background-01.jpg
END:VEVENT
BEGIN:VEVENT
DTSTART;TZID=America/Los_Angeles:20301107T100000
DTEND;TZID=America/Los_Angeles:20301107T110000
DTSTAMP:20260422T153525
CREATED:20241121T154444Z
LAST-MODIFIED:20250723T171611Z
UID:10000612-1920276000-1920279600@threeprinciplespsychology.com
SUMMARY:Uncovering the Hidden Dimension
DESCRIPTION:The Three Principles reveal a dimension of life we didn’t know existed. It’s where genuine mental health lives\, and techniques and willpower become completely redundant. \nLearn more and Enroll here.
URL:https://threeprinciplespsychology.com/event/uncovering-the-hidden-dimension/2030-11-07/
CATEGORIES:Uncovering the Hidden Dimension
ATTACH;FMTTYPE=image/jpeg:https://threeprinciplespsychology.com/wp-content/uploads/2024/09/3PP-UTHD-Banner-Background-01.jpg
END:VEVENT
BEGIN:VEVENT
DTSTART;TZID=America/Los_Angeles:20301205T100000
DTEND;TZID=America/Los_Angeles:20301205T110000
DTSTAMP:20260422T153525
CREATED:20241121T154444Z
LAST-MODIFIED:20250723T171611Z
UID:10000613-1922695200-1922698800@threeprinciplespsychology.com
SUMMARY:Uncovering the Hidden Dimension
DESCRIPTION:The Three Principles reveal a dimension of life we didn’t know existed. It’s where genuine mental health lives\, and techniques and willpower become completely redundant. \nLearn more and Enroll here.
URL:https://threeprinciplespsychology.com/event/uncovering-the-hidden-dimension/2030-12-05/
CATEGORIES:Uncovering the Hidden Dimension
ATTACH;FMTTYPE=image/jpeg:https://threeprinciplespsychology.com/wp-content/uploads/2024/09/3PP-UTHD-Banner-Background-01.jpg
END:VEVENT
END:VCALENDAR