BEGIN:VCALENDAR
VERSION:2.0
PRODID:-//Three Principles Psychology - ECPv6.15.20//NONSGML v1.0//EN
CALSCALE:GREGORIAN
METHOD:PUBLISH
X-WR-CALNAME:Three Principles Psychology
X-ORIGINAL-URL:https://threeprinciplespsychology.com
X-WR-CALDESC:Events for Three Principles Psychology
REFRESH-INTERVAL;VALUE=DURATION:PT1H
X-Robots-Tag:noindex
X-PUBLISHED-TTL:PT1H
BEGIN:VTIMEZONE
TZID:America/Los_Angeles
BEGIN:DAYLIGHT
TZOFFSETFROM:-0800
TZOFFSETTO:-0700
TZNAME:PDT
DTSTART:20230312T100000
END:DAYLIGHT
BEGIN:STANDARD
TZOFFSETFROM:-0700
TZOFFSETTO:-0800
TZNAME:PST
DTSTART:20231105T090000
END:STANDARD
BEGIN:DAYLIGHT
TZOFFSETFROM:-0800
TZOFFSETTO:-0700
TZNAME:PDT
DTSTART:20240310T100000
END:DAYLIGHT
BEGIN:STANDARD
TZOFFSETFROM:-0700
TZOFFSETTO:-0800
TZNAME:PST
DTSTART:20241103T090000
END:STANDARD
BEGIN:DAYLIGHT
TZOFFSETFROM:-0800
TZOFFSETTO:-0700
TZNAME:PDT
DTSTART:20250309T100000
END:DAYLIGHT
BEGIN:STANDARD
TZOFFSETFROM:-0700
TZOFFSETTO:-0800
TZNAME:PST
DTSTART:20251102T090000
END:STANDARD
END:VTIMEZONE
BEGIN:VEVENT
DTSTART;TZID=America/Los_Angeles:20240908T120000
DTEND;TZID=America/Los_Angeles:20240908T133000
DTSTAMP:20260421T165600
CREATED:20240714T172402Z
LAST-MODIFIED:20240714T172507Z
UID:10000424-1725796800-1725802200@threeprinciplespsychology.com
SUMMARY:3PP Town Hall Meeting
DESCRIPTION:A meeting with Keith Blevens\, Ph.D.\, and Brett Chitty. Everyone is invited and welcome to participate in the free meeting. \nLearn More and Register Here.
URL:https://threeprinciplespsychology.com/event/3pp-town-hall-meeting-7/
CATEGORIES:3PP Town Hall Meetings
END:VEVENT
BEGIN:VEVENT
DTSTART;TZID=America/Los_Angeles:20240721T120000
DTEND;TZID=America/Los_Angeles:20240721T133000
DTSTAMP:20260421T165600
CREATED:20240714T172333Z
LAST-MODIFIED:20240714T172518Z
UID:10000423-1721563200-1721568600@threeprinciplespsychology.com
SUMMARY:3PP Town Hall Meeting
DESCRIPTION:A meeting with Keith Blevens\, Ph.D.\, and Brett Chitty. Everyone is invited and welcome to participate in the free meeting. \nLearn More and Register Here.
URL:https://threeprinciplespsychology.com/event/3pp-town-hall-meeting-6/
CATEGORIES:3PP Town Hall Meetings
END:VEVENT
BEGIN:VEVENT
DTSTART;TZID=America/Los_Angeles:20240603T110000
DTEND;TZID=America/Los_Angeles:20240603T123000
DTSTAMP:20260421T165600
CREATED:20240508T152130Z
LAST-MODIFIED:20240508T152130Z
UID:10000422-1717412400-1717417800@threeprinciplespsychology.com
SUMMARY:Three Principles from the Beginning
DESCRIPTION:Information coming shortly
URL:https://threeprinciplespsychology.com/event/three-principles-from-the-beginning-2/2024-06-03/
ATTACH;FMTTYPE=image/jpeg:https://threeprinciplespsychology.com/wp-content/uploads/2024/04/3PP-3PBeginning-02.jpg
END:VEVENT
BEGIN:VEVENT
DTSTART;TZID=America/Los_Angeles:20240527T110000
DTEND;TZID=America/Los_Angeles:20240527T123000
DTSTAMP:20260421T165600
CREATED:20240508T152130Z
LAST-MODIFIED:20240508T152130Z
UID:10000421-1716807600-1716813000@threeprinciplespsychology.com
SUMMARY:Three Principles from the Beginning
DESCRIPTION:Information coming shortly
URL:https://threeprinciplespsychology.com/event/three-principles-from-the-beginning-2/2024-05-27/
ATTACH;FMTTYPE=image/jpeg:https://threeprinciplespsychology.com/wp-content/uploads/2024/04/3PP-3PBeginning-02.jpg
END:VEVENT
BEGIN:VEVENT
DTSTART;TZID=America/Los_Angeles:20240520T110000
DTEND;TZID=America/Los_Angeles:20240520T123000
DTSTAMP:20260421T165600
CREATED:20240508T152130Z
LAST-MODIFIED:20240508T152130Z
UID:10000419-1716202800-1716208200@threeprinciplespsychology.com
SUMMARY:Three Principles from the Beginning
DESCRIPTION:Information coming shortly
URL:https://threeprinciplespsychology.com/event/three-principles-from-the-beginning-2/2024-05-20/
ATTACH;FMTTYPE=image/jpeg:https://threeprinciplespsychology.com/wp-content/uploads/2024/04/3PP-3PBeginning-02.jpg
END:VEVENT
BEGIN:VEVENT
DTSTART;TZID=America/Los_Angeles:20240519T120000
DTEND;TZID=America/Los_Angeles:20240519T133000
DTSTAMP:20260421T165600
CREATED:20240305T193237Z
LAST-MODIFIED:20240508T152251Z
UID:10000417-1716120000-1716125400@threeprinciplespsychology.com
SUMMARY:3PP Town Hall Meeting
DESCRIPTION:A meeting with Keith Blevens\, Ph.D.\, and Brett Chitty. Everyone is invited and welcome to participate in the free meeting. \nLearn More and Register Here.
URL:https://threeprinciplespsychology.com/event/3pp-town-hall-meeting-5/
CATEGORIES:3PP Town Hall Meetings
END:VEVENT
BEGIN:VEVENT
DTSTART;TZID=America/Los_Angeles:20240506T110000
DTEND;TZID=America/Los_Angeles:20240506T123000
DTSTAMP:20260421T165600
CREATED:20240423T012921Z
LAST-MODIFIED:20240423T013050Z
UID:10000418-1714993200-1714998600@threeprinciplespsychology.com
SUMMARY:Three Principles from the Beginning
DESCRIPTION:Information coming shortly
URL:https://threeprinciplespsychology.com/event/three-principles-from-the-beginning/
ATTACH;FMTTYPE=image/jpeg:https://threeprinciplespsychology.com/wp-content/uploads/2024/04/3PP-3PBeginning-02.jpg
END:VEVENT
BEGIN:VEVENT
DTSTART;TZID=America/Los_Angeles:20240310T120000
DTEND;TZID=America/Los_Angeles:20240310T133000
DTSTAMP:20260421T165600
CREATED:20240305T193153Z
LAST-MODIFIED:20240305T194055Z
UID:10000416-1710072000-1710077400@threeprinciplespsychology.com
SUMMARY:3PP Town Hall Meeting
DESCRIPTION:A meeting with Keith Blevens\, Ph.D.\, and Brett Chitty. Everyone is invited and welcome to participate in the free meeting. \nLearn More and Register Here.
URL:https://threeprinciplespsychology.com/event/3pp-town-hall-meeting-4/
CATEGORIES:3PP Town Hall Meetings
END:VEVENT
END:VCALENDAR