BEGIN:VCALENDAR
VERSION:2.0
PRODID:-//Three Principles Psychology - ECPv6.15.20//NONSGML v1.0//EN
CALSCALE:GREGORIAN
METHOD:PUBLISH
X-ORIGINAL-URL:https://threeprinciplespsychology.com
X-WR-CALDESC:Events for Three Principles Psychology
REFRESH-INTERVAL;VALUE=DURATION:PT1H
X-Robots-Tag:noindex
X-PUBLISHED-TTL:PT1H
BEGIN:VTIMEZONE
TZID:America/Los_Angeles
BEGIN:DAYLIGHT
TZOFFSETFROM:-0800
TZOFFSETTO:-0700
TZNAME:PDT
DTSTART:20240310T100000
END:DAYLIGHT
BEGIN:STANDARD
TZOFFSETFROM:-0700
TZOFFSETTO:-0800
TZNAME:PST
DTSTART:20241103T090000
END:STANDARD
BEGIN:DAYLIGHT
TZOFFSETFROM:-0800
TZOFFSETTO:-0700
TZNAME:PDT
DTSTART:20250309T100000
END:DAYLIGHT
BEGIN:STANDARD
TZOFFSETFROM:-0700
TZOFFSETTO:-0800
TZNAME:PST
DTSTART:20251102T090000
END:STANDARD
BEGIN:DAYLIGHT
TZOFFSETFROM:-0800
TZOFFSETTO:-0700
TZNAME:PDT
DTSTART:20260308T100000
END:DAYLIGHT
BEGIN:STANDARD
TZOFFSETFROM:-0700
TZOFFSETTO:-0800
TZNAME:PST
DTSTART:20261101T090000
END:STANDARD
END:VTIMEZONE
BEGIN:VEVENT
DTSTART;TZID=America/Los_Angeles:20250501T100000
DTEND;TZID=America/Los_Angeles:20250501T110000
DTSTAMP:20260421T112738
CREATED:20241121T154444Z
LAST-MODIFIED:20250723T171611Z
UID:10000443-1746093600-1746097200@threeprinciplespsychology.com
SUMMARY:Uncovering the Hidden Dimension
DESCRIPTION:The Three Principles reveal a dimension of life we didn’t know existed. It’s where genuine mental health lives\, and techniques and willpower become completely redundant. \nLearn more and Enroll here.
URL:https://threeprinciplespsychology.com/event/uncovering-the-hidden-dimension/2025-05-01/
CATEGORIES:Uncovering the Hidden Dimension
ATTACH;FMTTYPE=image/jpeg:https://threeprinciplespsychology.com/wp-content/uploads/2024/09/3PP-UTHD-Banner-Background-01.jpg
END:VEVENT
BEGIN:VEVENT
DTSTART;TZID=America/Los_Angeles:20250513T100000
DTEND;TZID=America/Los_Angeles:20250513T113000
DTSTAMP:20260421T112738
CREATED:20250405T005533Z
LAST-MODIFIED:20250410T021023Z
UID:10000560-1747130400-1747135800@threeprinciplespsychology.com
SUMMARY:The Properties of a Universal Principle
DESCRIPTION:All problems can only be solved by a Universal Principle. A Universal Principle has properties that guide us to a place where solutions are.\n<a style=”color: #e62a6f;” href=”https://threeprinciplespsychology.com/the-properties-of-a-universal-principle/”>Learn More Here.</a>
URL:https://threeprinciplespsychology.com/event/the-properties-of-a-universal-principle/2025-05-13/
CATEGORIES:Programs
ATTACH;FMTTYPE=image/jpeg:https://threeprinciplespsychology.com/wp-content/uploads/2025/04/Properties-of-a-True-Principle-Word-Cloud-scaled.jpg
END:VEVENT
BEGIN:VEVENT
DTSTART;TZID=America/Los_Angeles:20250515T100000
DTEND;TZID=America/Los_Angeles:20250515T110000
DTSTAMP:20260421T112738
CREATED:20241121T154539Z
LAST-MODIFIED:20250723T171536Z
UID:10000504-1747303200-1747306800@threeprinciplespsychology.com
SUMMARY:Uncovering the Hidden Dimension
DESCRIPTION:There is a hidden dimension within you that has the answers you seek. The Three Principles of Mind\, Thought\, and Consciousness are a definite direction toward this dimension. \nLearn more and enroll here.
URL:https://threeprinciplespsychology.com/event/uncovering-the-hidden-dimension-2/2025-05-15/
CATEGORIES:Uncovering the Hidden Dimension
ATTACH;FMTTYPE=image/jpeg:https://threeprinciplespsychology.com/wp-content/uploads/2024/09/3PP-UTHD-Banner-Background-01.jpg
END:VEVENT
BEGIN:VEVENT
DTSTART;TZID=America/Los_Angeles:20250520T100000
DTEND;TZID=America/Los_Angeles:20250520T113000
DTSTAMP:20260421T112738
CREATED:20250405T005533Z
LAST-MODIFIED:20250410T021023Z
UID:10000561-1747735200-1747740600@threeprinciplespsychology.com
SUMMARY:The Properties of a Universal Principle
DESCRIPTION:All problems can only be solved by a Universal Principle. A Universal Principle has properties that guide us to a place where solutions are.\n<a style=”color: #e62a6f;” href=”https://threeprinciplespsychology.com/the-properties-of-a-universal-principle/”>Learn More Here.</a>
URL:https://threeprinciplespsychology.com/event/the-properties-of-a-universal-principle/2025-05-20/
CATEGORIES:Programs
ATTACH;FMTTYPE=image/jpeg:https://threeprinciplespsychology.com/wp-content/uploads/2025/04/Properties-of-a-True-Principle-Word-Cloud-scaled.jpg
END:VEVENT
BEGIN:VEVENT
DTSTART;TZID=America/Los_Angeles:20250527T100000
DTEND;TZID=America/Los_Angeles:20250527T113000
DTSTAMP:20260421T112738
CREATED:20250405T005533Z
LAST-MODIFIED:20250410T021023Z
UID:10000562-1748340000-1748345400@threeprinciplespsychology.com
SUMMARY:The Properties of a Universal Principle
DESCRIPTION:All problems can only be solved by a Universal Principle. A Universal Principle has properties that guide us to a place where solutions are.\n<a style=”color: #e62a6f;” href=”https://threeprinciplespsychology.com/the-properties-of-a-universal-principle/”>Learn More Here.</a>
URL:https://threeprinciplespsychology.com/event/the-properties-of-a-universal-principle/2025-05-27/
CATEGORIES:Programs
ATTACH;FMTTYPE=image/jpeg:https://threeprinciplespsychology.com/wp-content/uploads/2025/04/Properties-of-a-True-Principle-Word-Cloud-scaled.jpg
END:VEVENT
END:VCALENDAR