BEGIN:VCALENDAR
VERSION:2.0
PRODID:-//Three Principles Psychology - ECPv6.15.20//NONSGML v1.0//EN
CALSCALE:GREGORIAN
METHOD:PUBLISH
X-WR-CALNAME:Three Principles Psychology
X-ORIGINAL-URL:https://threeprinciplespsychology.com
X-WR-CALDESC:Events for Three Principles Psychology
REFRESH-INTERVAL;VALUE=DURATION:PT1H
X-Robots-Tag:noindex
X-PUBLISHED-TTL:PT1H
BEGIN:VTIMEZONE
TZID:America/Los_Angeles
BEGIN:DAYLIGHT
TZOFFSETFROM:-0800
TZOFFSETTO:-0700
TZNAME:PDT
DTSTART:20250309T100000
END:DAYLIGHT
BEGIN:STANDARD
TZOFFSETFROM:-0700
TZOFFSETTO:-0800
TZNAME:PST
DTSTART:20251102T090000
END:STANDARD
BEGIN:DAYLIGHT
TZOFFSETFROM:-0800
TZOFFSETTO:-0700
TZNAME:PDT
DTSTART:20260308T100000
END:DAYLIGHT
BEGIN:STANDARD
TZOFFSETFROM:-0700
TZOFFSETTO:-0800
TZNAME:PST
DTSTART:20261101T090000
END:STANDARD
BEGIN:DAYLIGHT
TZOFFSETFROM:-0800
TZOFFSETTO:-0700
TZNAME:PDT
DTSTART:20270314T100000
END:DAYLIGHT
BEGIN:STANDARD
TZOFFSETFROM:-0700
TZOFFSETTO:-0800
TZNAME:PST
DTSTART:20271107T090000
END:STANDARD
BEGIN:DAYLIGHT
TZOFFSETFROM:-0800
TZOFFSETTO:-0700
TZNAME:PDT
DTSTART:20280312T100000
END:DAYLIGHT
BEGIN:STANDARD
TZOFFSETFROM:-0700
TZOFFSETTO:-0800
TZNAME:PST
DTSTART:20281105T090000
END:STANDARD
BEGIN:DAYLIGHT
TZOFFSETFROM:-0800
TZOFFSETTO:-0700
TZNAME:PDT
DTSTART:20290311T100000
END:DAYLIGHT
BEGIN:STANDARD
TZOFFSETFROM:-0700
TZOFFSETTO:-0800
TZNAME:PST
DTSTART:20291104T090000
END:STANDARD
END:VTIMEZONE
BEGIN:VEVENT
DTSTART;TZID=America/Los_Angeles:20260521T100000
DTEND;TZID=America/Los_Angeles:20260521T110000
DTSTAMP:20260422T013434
CREATED:20241121T154539Z
LAST-MODIFIED:20250723T171536Z
UID:10000516-1779357600-1779361200@threeprinciplespsychology.com
SUMMARY:Uncovering the Hidden Dimension
DESCRIPTION:There is a hidden dimension within you that has the answers you seek. The Three Principles of Mind\, Thought\, and Consciousness are a definite direction toward this dimension. \nLearn more and enroll here.
URL:https://threeprinciplespsychology.com/event/uncovering-the-hidden-dimension-2/2026-05-21/
CATEGORIES:Uncovering the Hidden Dimension
ATTACH;FMTTYPE=image/jpeg:https://threeprinciplespsychology.com/wp-content/uploads/2024/09/3PP-UTHD-Banner-Background-01.jpg
END:VEVENT
BEGIN:VEVENT
DTSTART;TZID=America/Los_Angeles:20260618T100000
DTEND;TZID=America/Los_Angeles:20260618T110000
DTSTAMP:20260422T013434
CREATED:20241121T154539Z
LAST-MODIFIED:20250723T171536Z
UID:10000517-1781776800-1781780400@threeprinciplespsychology.com
SUMMARY:Uncovering the Hidden Dimension
DESCRIPTION:There is a hidden dimension within you that has the answers you seek. The Three Principles of Mind\, Thought\, and Consciousness are a definite direction toward this dimension. \nLearn more and enroll here.
URL:https://threeprinciplespsychology.com/event/uncovering-the-hidden-dimension-2/2026-06-18/
CATEGORIES:Uncovering the Hidden Dimension
ATTACH;FMTTYPE=image/jpeg:https://threeprinciplespsychology.com/wp-content/uploads/2024/09/3PP-UTHD-Banner-Background-01.jpg
END:VEVENT
BEGIN:VEVENT
DTSTART;TZID=America/Los_Angeles:20260716T100000
DTEND;TZID=America/Los_Angeles:20260716T110000
DTSTAMP:20260422T013434
CREATED:20241121T154539Z
LAST-MODIFIED:20250723T171536Z
UID:10000518-1784196000-1784199600@threeprinciplespsychology.com
SUMMARY:Uncovering the Hidden Dimension
DESCRIPTION:There is a hidden dimension within you that has the answers you seek. The Three Principles of Mind\, Thought\, and Consciousness are a definite direction toward this dimension. \nLearn more and enroll here.
URL:https://threeprinciplespsychology.com/event/uncovering-the-hidden-dimension-2/2026-07-16/
CATEGORIES:Uncovering the Hidden Dimension
ATTACH;FMTTYPE=image/jpeg:https://threeprinciplespsychology.com/wp-content/uploads/2024/09/3PP-UTHD-Banner-Background-01.jpg
END:VEVENT
BEGIN:VEVENT
DTSTART;TZID=America/Los_Angeles:20260820T100000
DTEND;TZID=America/Los_Angeles:20260820T110000
DTSTAMP:20260422T013434
CREATED:20241121T154539Z
LAST-MODIFIED:20250723T171536Z
UID:10000519-1787220000-1787223600@threeprinciplespsychology.com
SUMMARY:Uncovering the Hidden Dimension
DESCRIPTION:There is a hidden dimension within you that has the answers you seek. The Three Principles of Mind\, Thought\, and Consciousness are a definite direction toward this dimension. \nLearn more and enroll here.
URL:https://threeprinciplespsychology.com/event/uncovering-the-hidden-dimension-2/2026-08-20/
CATEGORIES:Uncovering the Hidden Dimension
ATTACH;FMTTYPE=image/jpeg:https://threeprinciplespsychology.com/wp-content/uploads/2024/09/3PP-UTHD-Banner-Background-01.jpg
END:VEVENT
BEGIN:VEVENT
DTSTART;TZID=America/Los_Angeles:20260917T100000
DTEND;TZID=America/Los_Angeles:20260917T110000
DTSTAMP:20260422T013434
CREATED:20241121T154539Z
LAST-MODIFIED:20250723T171536Z
UID:10000520-1789639200-1789642800@threeprinciplespsychology.com
SUMMARY:Uncovering the Hidden Dimension
DESCRIPTION:There is a hidden dimension within you that has the answers you seek. The Three Principles of Mind\, Thought\, and Consciousness are a definite direction toward this dimension. \nLearn more and enroll here.
URL:https://threeprinciplespsychology.com/event/uncovering-the-hidden-dimension-2/2026-09-17/
CATEGORIES:Uncovering the Hidden Dimension
ATTACH;FMTTYPE=image/jpeg:https://threeprinciplespsychology.com/wp-content/uploads/2024/09/3PP-UTHD-Banner-Background-01.jpg
END:VEVENT
BEGIN:VEVENT
DTSTART;TZID=America/Los_Angeles:20261015T100000
DTEND;TZID=America/Los_Angeles:20261015T110000
DTSTAMP:20260422T013434
CREATED:20241121T154539Z
LAST-MODIFIED:20250723T171536Z
UID:10000521-1792058400-1792062000@threeprinciplespsychology.com
SUMMARY:Uncovering the Hidden Dimension
DESCRIPTION:There is a hidden dimension within you that has the answers you seek. The Three Principles of Mind\, Thought\, and Consciousness are a definite direction toward this dimension. \nLearn more and enroll here.
URL:https://threeprinciplespsychology.com/event/uncovering-the-hidden-dimension-2/2026-10-15/
CATEGORIES:Uncovering the Hidden Dimension
ATTACH;FMTTYPE=image/jpeg:https://threeprinciplespsychology.com/wp-content/uploads/2024/09/3PP-UTHD-Banner-Background-01.jpg
END:VEVENT
BEGIN:VEVENT
DTSTART;TZID=America/Los_Angeles:20261119T100000
DTEND;TZID=America/Los_Angeles:20261119T110000
DTSTAMP:20260422T013434
CREATED:20241121T154539Z
LAST-MODIFIED:20250723T171536Z
UID:10000522-1795082400-1795086000@threeprinciplespsychology.com
SUMMARY:Uncovering the Hidden Dimension
DESCRIPTION:There is a hidden dimension within you that has the answers you seek. The Three Principles of Mind\, Thought\, and Consciousness are a definite direction toward this dimension. \nLearn more and enroll here.
URL:https://threeprinciplespsychology.com/event/uncovering-the-hidden-dimension-2/2026-11-19/
CATEGORIES:Uncovering the Hidden Dimension
ATTACH;FMTTYPE=image/jpeg:https://threeprinciplespsychology.com/wp-content/uploads/2024/09/3PP-UTHD-Banner-Background-01.jpg
END:VEVENT
BEGIN:VEVENT
DTSTART;TZID=America/Los_Angeles:20261217T100000
DTEND;TZID=America/Los_Angeles:20261217T110000
DTSTAMP:20260422T013434
CREATED:20241121T154539Z
LAST-MODIFIED:20250723T171536Z
UID:10000523-1797501600-1797505200@threeprinciplespsychology.com
SUMMARY:Uncovering the Hidden Dimension
DESCRIPTION:There is a hidden dimension within you that has the answers you seek. The Three Principles of Mind\, Thought\, and Consciousness are a definite direction toward this dimension. \nLearn more and enroll here.
URL:https://threeprinciplespsychology.com/event/uncovering-the-hidden-dimension-2/2026-12-17/
CATEGORIES:Uncovering the Hidden Dimension
ATTACH;FMTTYPE=image/jpeg:https://threeprinciplespsychology.com/wp-content/uploads/2024/09/3PP-UTHD-Banner-Background-01.jpg
END:VEVENT
BEGIN:VEVENT
DTSTART;TZID=America/Los_Angeles:20270121T100000
DTEND;TZID=America/Los_Angeles:20270121T110000
DTSTAMP:20260422T013434
CREATED:20241121T154539Z
LAST-MODIFIED:20250723T171536Z
UID:10000524-1800525600-1800529200@threeprinciplespsychology.com
SUMMARY:Uncovering the Hidden Dimension
DESCRIPTION:There is a hidden dimension within you that has the answers you seek. The Three Principles of Mind\, Thought\, and Consciousness are a definite direction toward this dimension. \nLearn more and enroll here.
URL:https://threeprinciplespsychology.com/event/uncovering-the-hidden-dimension-2/2027-01-21/
CATEGORIES:Uncovering the Hidden Dimension
ATTACH;FMTTYPE=image/jpeg:https://threeprinciplespsychology.com/wp-content/uploads/2024/09/3PP-UTHD-Banner-Background-01.jpg
END:VEVENT
BEGIN:VEVENT
DTSTART;TZID=America/Los_Angeles:20270218T100000
DTEND;TZID=America/Los_Angeles:20270218T110000
DTSTAMP:20260422T013434
CREATED:20241121T154539Z
LAST-MODIFIED:20250723T171536Z
UID:10000525-1802944800-1802948400@threeprinciplespsychology.com
SUMMARY:Uncovering the Hidden Dimension
DESCRIPTION:There is a hidden dimension within you that has the answers you seek. The Three Principles of Mind\, Thought\, and Consciousness are a definite direction toward this dimension. \nLearn more and enroll here.
URL:https://threeprinciplespsychology.com/event/uncovering-the-hidden-dimension-2/2027-02-18/
CATEGORIES:Uncovering the Hidden Dimension
ATTACH;FMTTYPE=image/jpeg:https://threeprinciplespsychology.com/wp-content/uploads/2024/09/3PP-UTHD-Banner-Background-01.jpg
END:VEVENT
BEGIN:VEVENT
DTSTART;TZID=America/Los_Angeles:20270318T100000
DTEND;TZID=America/Los_Angeles:20270318T110000
DTSTAMP:20260422T013434
CREATED:20241121T154539Z
LAST-MODIFIED:20250723T171536Z
UID:10000526-1805364000-1805367600@threeprinciplespsychology.com
SUMMARY:Uncovering the Hidden Dimension
DESCRIPTION:There is a hidden dimension within you that has the answers you seek. The Three Principles of Mind\, Thought\, and Consciousness are a definite direction toward this dimension. \nLearn more and enroll here.
URL:https://threeprinciplespsychology.com/event/uncovering-the-hidden-dimension-2/2027-03-18/
CATEGORIES:Uncovering the Hidden Dimension
ATTACH;FMTTYPE=image/jpeg:https://threeprinciplespsychology.com/wp-content/uploads/2024/09/3PP-UTHD-Banner-Background-01.jpg
END:VEVENT
BEGIN:VEVENT
DTSTART;TZID=America/Los_Angeles:20270415T100000
DTEND;TZID=America/Los_Angeles:20270415T110000
DTSTAMP:20260422T013434
CREATED:20241121T154539Z
LAST-MODIFIED:20250723T171536Z
UID:10000527-1807783200-1807786800@threeprinciplespsychology.com
SUMMARY:Uncovering the Hidden Dimension
DESCRIPTION:There is a hidden dimension within you that has the answers you seek. The Three Principles of Mind\, Thought\, and Consciousness are a definite direction toward this dimension. \nLearn more and enroll here.
URL:https://threeprinciplespsychology.com/event/uncovering-the-hidden-dimension-2/2027-04-15/
CATEGORIES:Uncovering the Hidden Dimension
ATTACH;FMTTYPE=image/jpeg:https://threeprinciplespsychology.com/wp-content/uploads/2024/09/3PP-UTHD-Banner-Background-01.jpg
END:VEVENT
BEGIN:VEVENT
DTSTART;TZID=America/Los_Angeles:20270520T100000
DTEND;TZID=America/Los_Angeles:20270520T110000
DTSTAMP:20260422T013434
CREATED:20241121T154539Z
LAST-MODIFIED:20250723T171536Z
UID:10000528-1810807200-1810810800@threeprinciplespsychology.com
SUMMARY:Uncovering the Hidden Dimension
DESCRIPTION:There is a hidden dimension within you that has the answers you seek. The Three Principles of Mind\, Thought\, and Consciousness are a definite direction toward this dimension. \nLearn more and enroll here.
URL:https://threeprinciplespsychology.com/event/uncovering-the-hidden-dimension-2/2027-05-20/
CATEGORIES:Uncovering the Hidden Dimension
ATTACH;FMTTYPE=image/jpeg:https://threeprinciplespsychology.com/wp-content/uploads/2024/09/3PP-UTHD-Banner-Background-01.jpg
END:VEVENT
BEGIN:VEVENT
DTSTART;TZID=America/Los_Angeles:20270617T100000
DTEND;TZID=America/Los_Angeles:20270617T110000
DTSTAMP:20260422T013434
CREATED:20241121T154539Z
LAST-MODIFIED:20250723T171536Z
UID:10000529-1813226400-1813230000@threeprinciplespsychology.com
SUMMARY:Uncovering the Hidden Dimension
DESCRIPTION:There is a hidden dimension within you that has the answers you seek. The Three Principles of Mind\, Thought\, and Consciousness are a definite direction toward this dimension. \nLearn more and enroll here.
URL:https://threeprinciplespsychology.com/event/uncovering-the-hidden-dimension-2/2027-06-17/
CATEGORIES:Uncovering the Hidden Dimension
ATTACH;FMTTYPE=image/jpeg:https://threeprinciplespsychology.com/wp-content/uploads/2024/09/3PP-UTHD-Banner-Background-01.jpg
END:VEVENT
BEGIN:VEVENT
DTSTART;TZID=America/Los_Angeles:20270715T100000
DTEND;TZID=America/Los_Angeles:20270715T110000
DTSTAMP:20260422T013434
CREATED:20241121T154539Z
LAST-MODIFIED:20250723T171536Z
UID:10000530-1815645600-1815649200@threeprinciplespsychology.com
SUMMARY:Uncovering the Hidden Dimension
DESCRIPTION:There is a hidden dimension within you that has the answers you seek. The Three Principles of Mind\, Thought\, and Consciousness are a definite direction toward this dimension. \nLearn more and enroll here.
URL:https://threeprinciplespsychology.com/event/uncovering-the-hidden-dimension-2/2027-07-15/
CATEGORIES:Uncovering the Hidden Dimension
ATTACH;FMTTYPE=image/jpeg:https://threeprinciplespsychology.com/wp-content/uploads/2024/09/3PP-UTHD-Banner-Background-01.jpg
END:VEVENT
BEGIN:VEVENT
DTSTART;TZID=America/Los_Angeles:20270819T100000
DTEND;TZID=America/Los_Angeles:20270819T110000
DTSTAMP:20260422T013434
CREATED:20241121T154539Z
LAST-MODIFIED:20250723T171536Z
UID:10000531-1818669600-1818673200@threeprinciplespsychology.com
SUMMARY:Uncovering the Hidden Dimension
DESCRIPTION:There is a hidden dimension within you that has the answers you seek. The Three Principles of Mind\, Thought\, and Consciousness are a definite direction toward this dimension. \nLearn more and enroll here.
URL:https://threeprinciplespsychology.com/event/uncovering-the-hidden-dimension-2/2027-08-19/
CATEGORIES:Uncovering the Hidden Dimension
ATTACH;FMTTYPE=image/jpeg:https://threeprinciplespsychology.com/wp-content/uploads/2024/09/3PP-UTHD-Banner-Background-01.jpg
END:VEVENT
BEGIN:VEVENT
DTSTART;TZID=America/Los_Angeles:20270916T100000
DTEND;TZID=America/Los_Angeles:20270916T110000
DTSTAMP:20260422T013434
CREATED:20241121T154539Z
LAST-MODIFIED:20250723T171536Z
UID:10000532-1821088800-1821092400@threeprinciplespsychology.com
SUMMARY:Uncovering the Hidden Dimension
DESCRIPTION:There is a hidden dimension within you that has the answers you seek. The Three Principles of Mind\, Thought\, and Consciousness are a definite direction toward this dimension. \nLearn more and enroll here.
URL:https://threeprinciplespsychology.com/event/uncovering-the-hidden-dimension-2/2027-09-16/
CATEGORIES:Uncovering the Hidden Dimension
ATTACH;FMTTYPE=image/jpeg:https://threeprinciplespsychology.com/wp-content/uploads/2024/09/3PP-UTHD-Banner-Background-01.jpg
END:VEVENT
BEGIN:VEVENT
DTSTART;TZID=America/Los_Angeles:20271021T100000
DTEND;TZID=America/Los_Angeles:20271021T110000
DTSTAMP:20260422T013434
CREATED:20241121T154539Z
LAST-MODIFIED:20250723T171536Z
UID:10000533-1824112800-1824116400@threeprinciplespsychology.com
SUMMARY:Uncovering the Hidden Dimension
DESCRIPTION:There is a hidden dimension within you that has the answers you seek. The Three Principles of Mind\, Thought\, and Consciousness are a definite direction toward this dimension. \nLearn more and enroll here.
URL:https://threeprinciplespsychology.com/event/uncovering-the-hidden-dimension-2/2027-10-21/
CATEGORIES:Uncovering the Hidden Dimension
ATTACH;FMTTYPE=image/jpeg:https://threeprinciplespsychology.com/wp-content/uploads/2024/09/3PP-UTHD-Banner-Background-01.jpg
END:VEVENT
BEGIN:VEVENT
DTSTART;TZID=America/Los_Angeles:20271118T100000
DTEND;TZID=America/Los_Angeles:20271118T110000
DTSTAMP:20260422T013434
CREATED:20241121T154539Z
LAST-MODIFIED:20250723T171536Z
UID:10000534-1826532000-1826535600@threeprinciplespsychology.com
SUMMARY:Uncovering the Hidden Dimension
DESCRIPTION:There is a hidden dimension within you that has the answers you seek. The Three Principles of Mind\, Thought\, and Consciousness are a definite direction toward this dimension. \nLearn more and enroll here.
URL:https://threeprinciplespsychology.com/event/uncovering-the-hidden-dimension-2/2027-11-18/
CATEGORIES:Uncovering the Hidden Dimension
ATTACH;FMTTYPE=image/jpeg:https://threeprinciplespsychology.com/wp-content/uploads/2024/09/3PP-UTHD-Banner-Background-01.jpg
END:VEVENT
BEGIN:VEVENT
DTSTART;TZID=America/Los_Angeles:20271216T100000
DTEND;TZID=America/Los_Angeles:20271216T110000
DTSTAMP:20260422T013434
CREATED:20241121T154539Z
LAST-MODIFIED:20250723T171536Z
UID:10000535-1828951200-1828954800@threeprinciplespsychology.com
SUMMARY:Uncovering the Hidden Dimension
DESCRIPTION:There is a hidden dimension within you that has the answers you seek. The Three Principles of Mind\, Thought\, and Consciousness are a definite direction toward this dimension. \nLearn more and enroll here.
URL:https://threeprinciplespsychology.com/event/uncovering-the-hidden-dimension-2/2027-12-16/
CATEGORIES:Uncovering the Hidden Dimension
ATTACH;FMTTYPE=image/jpeg:https://threeprinciplespsychology.com/wp-content/uploads/2024/09/3PP-UTHD-Banner-Background-01.jpg
END:VEVENT
BEGIN:VEVENT
DTSTART;TZID=America/Los_Angeles:20280120T100000
DTEND;TZID=America/Los_Angeles:20280120T110000
DTSTAMP:20260422T013434
CREATED:20241121T154539Z
LAST-MODIFIED:20250723T171536Z
UID:10000536-1831975200-1831978800@threeprinciplespsychology.com
SUMMARY:Uncovering the Hidden Dimension
DESCRIPTION:There is a hidden dimension within you that has the answers you seek. The Three Principles of Mind\, Thought\, and Consciousness are a definite direction toward this dimension. \nLearn more and enroll here.
URL:https://threeprinciplespsychology.com/event/uncovering-the-hidden-dimension-2/2028-01-20/
CATEGORIES:Uncovering the Hidden Dimension
ATTACH;FMTTYPE=image/jpeg:https://threeprinciplespsychology.com/wp-content/uploads/2024/09/3PP-UTHD-Banner-Background-01.jpg
END:VEVENT
BEGIN:VEVENT
DTSTART;TZID=America/Los_Angeles:20280217T100000
DTEND;TZID=America/Los_Angeles:20280217T110000
DTSTAMP:20260422T013434
CREATED:20241121T154539Z
LAST-MODIFIED:20250723T171536Z
UID:10000537-1834394400-1834398000@threeprinciplespsychology.com
SUMMARY:Uncovering the Hidden Dimension
DESCRIPTION:There is a hidden dimension within you that has the answers you seek. The Three Principles of Mind\, Thought\, and Consciousness are a definite direction toward this dimension. \nLearn more and enroll here.
URL:https://threeprinciplespsychology.com/event/uncovering-the-hidden-dimension-2/2028-02-17/
CATEGORIES:Uncovering the Hidden Dimension
ATTACH;FMTTYPE=image/jpeg:https://threeprinciplespsychology.com/wp-content/uploads/2024/09/3PP-UTHD-Banner-Background-01.jpg
END:VEVENT
BEGIN:VEVENT
DTSTART;TZID=America/Los_Angeles:20280316T100000
DTEND;TZID=America/Los_Angeles:20280316T110000
DTSTAMP:20260422T013434
CREATED:20241121T154539Z
LAST-MODIFIED:20250723T171536Z
UID:10000538-1836813600-1836817200@threeprinciplespsychology.com
SUMMARY:Uncovering the Hidden Dimension
DESCRIPTION:There is a hidden dimension within you that has the answers you seek. The Three Principles of Mind\, Thought\, and Consciousness are a definite direction toward this dimension. \nLearn more and enroll here.
URL:https://threeprinciplespsychology.com/event/uncovering-the-hidden-dimension-2/2028-03-16/
CATEGORIES:Uncovering the Hidden Dimension
ATTACH;FMTTYPE=image/jpeg:https://threeprinciplespsychology.com/wp-content/uploads/2024/09/3PP-UTHD-Banner-Background-01.jpg
END:VEVENT
BEGIN:VEVENT
DTSTART;TZID=America/Los_Angeles:20280420T100000
DTEND;TZID=America/Los_Angeles:20280420T110000
DTSTAMP:20260422T013434
CREATED:20241121T154539Z
LAST-MODIFIED:20250723T171536Z
UID:10000539-1839837600-1839841200@threeprinciplespsychology.com
SUMMARY:Uncovering the Hidden Dimension
DESCRIPTION:There is a hidden dimension within you that has the answers you seek. The Three Principles of Mind\, Thought\, and Consciousness are a definite direction toward this dimension. \nLearn more and enroll here.
URL:https://threeprinciplespsychology.com/event/uncovering-the-hidden-dimension-2/2028-04-20/
CATEGORIES:Uncovering the Hidden Dimension
ATTACH;FMTTYPE=image/jpeg:https://threeprinciplespsychology.com/wp-content/uploads/2024/09/3PP-UTHD-Banner-Background-01.jpg
END:VEVENT
BEGIN:VEVENT
DTSTART;TZID=America/Los_Angeles:20280518T100000
DTEND;TZID=America/Los_Angeles:20280518T110000
DTSTAMP:20260422T013434
CREATED:20241121T154539Z
LAST-MODIFIED:20250723T171536Z
UID:10000540-1842256800-1842260400@threeprinciplespsychology.com
SUMMARY:Uncovering the Hidden Dimension
DESCRIPTION:There is a hidden dimension within you that has the answers you seek. The Three Principles of Mind\, Thought\, and Consciousness are a definite direction toward this dimension. \nLearn more and enroll here.
URL:https://threeprinciplespsychology.com/event/uncovering-the-hidden-dimension-2/2028-05-18/
CATEGORIES:Uncovering the Hidden Dimension
ATTACH;FMTTYPE=image/jpeg:https://threeprinciplespsychology.com/wp-content/uploads/2024/09/3PP-UTHD-Banner-Background-01.jpg
END:VEVENT
BEGIN:VEVENT
DTSTART;TZID=America/Los_Angeles:20280615T100000
DTEND;TZID=America/Los_Angeles:20280615T110000
DTSTAMP:20260422T013434
CREATED:20241121T154539Z
LAST-MODIFIED:20250723T171536Z
UID:10000541-1844676000-1844679600@threeprinciplespsychology.com
SUMMARY:Uncovering the Hidden Dimension
DESCRIPTION:There is a hidden dimension within you that has the answers you seek. The Three Principles of Mind\, Thought\, and Consciousness are a definite direction toward this dimension. \nLearn more and enroll here.
URL:https://threeprinciplespsychology.com/event/uncovering-the-hidden-dimension-2/2028-06-15/
CATEGORIES:Uncovering the Hidden Dimension
ATTACH;FMTTYPE=image/jpeg:https://threeprinciplespsychology.com/wp-content/uploads/2024/09/3PP-UTHD-Banner-Background-01.jpg
END:VEVENT
BEGIN:VEVENT
DTSTART;TZID=America/Los_Angeles:20280720T100000
DTEND;TZID=America/Los_Angeles:20280720T110000
DTSTAMP:20260422T013434
CREATED:20241121T154539Z
LAST-MODIFIED:20250723T171536Z
UID:10000542-1847700000-1847703600@threeprinciplespsychology.com
SUMMARY:Uncovering the Hidden Dimension
DESCRIPTION:There is a hidden dimension within you that has the answers you seek. The Three Principles of Mind\, Thought\, and Consciousness are a definite direction toward this dimension. \nLearn more and enroll here.
URL:https://threeprinciplespsychology.com/event/uncovering-the-hidden-dimension-2/2028-07-20/
CATEGORIES:Uncovering the Hidden Dimension
ATTACH;FMTTYPE=image/jpeg:https://threeprinciplespsychology.com/wp-content/uploads/2024/09/3PP-UTHD-Banner-Background-01.jpg
END:VEVENT
BEGIN:VEVENT
DTSTART;TZID=America/Los_Angeles:20280817T100000
DTEND;TZID=America/Los_Angeles:20280817T110000
DTSTAMP:20260422T013434
CREATED:20241121T154539Z
LAST-MODIFIED:20250723T171536Z
UID:10000543-1850119200-1850122800@threeprinciplespsychology.com
SUMMARY:Uncovering the Hidden Dimension
DESCRIPTION:There is a hidden dimension within you that has the answers you seek. The Three Principles of Mind\, Thought\, and Consciousness are a definite direction toward this dimension. \nLearn more and enroll here.
URL:https://threeprinciplespsychology.com/event/uncovering-the-hidden-dimension-2/2028-08-17/
CATEGORIES:Uncovering the Hidden Dimension
ATTACH;FMTTYPE=image/jpeg:https://threeprinciplespsychology.com/wp-content/uploads/2024/09/3PP-UTHD-Banner-Background-01.jpg
END:VEVENT
BEGIN:VEVENT
DTSTART;TZID=America/Los_Angeles:20280921T100000
DTEND;TZID=America/Los_Angeles:20280921T110000
DTSTAMP:20260422T013434
CREATED:20241121T154539Z
LAST-MODIFIED:20250723T171536Z
UID:10000544-1853143200-1853146800@threeprinciplespsychology.com
SUMMARY:Uncovering the Hidden Dimension
DESCRIPTION:There is a hidden dimension within you that has the answers you seek. The Three Principles of Mind\, Thought\, and Consciousness are a definite direction toward this dimension. \nLearn more and enroll here.
URL:https://threeprinciplespsychology.com/event/uncovering-the-hidden-dimension-2/2028-09-21/
CATEGORIES:Uncovering the Hidden Dimension
ATTACH;FMTTYPE=image/jpeg:https://threeprinciplespsychology.com/wp-content/uploads/2024/09/3PP-UTHD-Banner-Background-01.jpg
END:VEVENT
BEGIN:VEVENT
DTSTART;TZID=America/Los_Angeles:20281019T100000
DTEND;TZID=America/Los_Angeles:20281019T110000
DTSTAMP:20260422T013434
CREATED:20241121T154539Z
LAST-MODIFIED:20250723T171536Z
UID:10000545-1855562400-1855566000@threeprinciplespsychology.com
SUMMARY:Uncovering the Hidden Dimension
DESCRIPTION:There is a hidden dimension within you that has the answers you seek. The Three Principles of Mind\, Thought\, and Consciousness are a definite direction toward this dimension. \nLearn more and enroll here.
URL:https://threeprinciplespsychology.com/event/uncovering-the-hidden-dimension-2/2028-10-19/
CATEGORIES:Uncovering the Hidden Dimension
ATTACH;FMTTYPE=image/jpeg:https://threeprinciplespsychology.com/wp-content/uploads/2024/09/3PP-UTHD-Banner-Background-01.jpg
END:VEVENT
END:VCALENDAR